BEGIN:VCALENDAR
VERSION:2.0
PRODID:-//Death Magnetic - ECPv5.10.1//NONSGML v1.0//EN
CALSCALE:GREGORIAN
METHOD:PUBLISH
X-WR-CALNAME:Death Magnetic
X-ORIGINAL-URL:https://deathmagnetic.pl
X-WR-CALDESC:Events for Death Magnetic
BEGIN:VTIMEZONE
TZID:Europe/Warsaw
BEGIN:DAYLIGHT
TZOFFSETFROM:+0100
TZOFFSETTO:+0200
TZNAME:CEST
DTSTART:20150329T010000
END:DAYLIGHT
BEGIN:STANDARD
TZOFFSETFROM:+0200
TZOFFSETTO:+0100
TZNAME:CET
DTSTART:20151025T010000
END:STANDARD
END:VTIMEZONE
BEGIN:VEVENT
DTSTART;TZID=Europe/Warsaw:20151030T190000
DTEND;TZID=Europe/Warsaw:20151030T230000
DTSTAMP:20260421T070245
CREATED:20150923T172119Z
LAST-MODIFIED:20150923T172119Z
UID:92317-1446231600-1446246000@deathmagnetic.pl
SUMMARY:Corruption + Jack Crusher + Pings In Tank
DESCRIPTION:Ceny biletów: \n20 zł \nBilety do kupienia w dniu koncertu w klubie. \nStart: 19:00
URL:https://deathmagnetic.pl/wydarzenie/corruption-jack-crusher-pings-in-tank-5/
LOCATION:Labirynt\, ul. 1 Sierpnia 11 A\, \, Stalowa Wola\, 37-450\, Polska
CATEGORIES:Koncerty,Polskie
ATTACH;FMTTYPE=image/jpeg:https://deathmagnetic.pl/wp-content/uploads/2015/09/corruption-sweet-virgin-autumn-tour.jpg
GEO:50.5684397;22.0544254
X-APPLE-STRUCTURED-LOCATION;VALUE=URI;X-ADDRESS=Labirynt ul. 1 Sierpnia 11 A  Stalowa Wola 37-450 Polska;X-APPLE-RADIUS=500;X-TITLE=ul. 1 Sierpnia 11 A\,:geo:22.0544254,50.5684397
END:VEVENT
END:VCALENDAR