BEGIN:VCALENDAR
VERSION:2.0
PRODID:-//Death Magnetic - ECPv5.10.1//NONSGML v1.0//EN
CALSCALE:GREGORIAN
METHOD:PUBLISH
X-WR-CALNAME:Death Magnetic
X-ORIGINAL-URL:https://deathmagnetic.pl
X-WR-CALDESC:Events for Death Magnetic
BEGIN:VTIMEZONE
TZID:Europe/Warsaw
BEGIN:DAYLIGHT
TZOFFSETFROM:+0100
TZOFFSETTO:+0200
TZNAME:CEST
DTSTART:20160327T010000
END:DAYLIGHT
BEGIN:STANDARD
TZOFFSETFROM:+0200
TZOFFSETTO:+0100
TZNAME:CET
DTSTART:20161030T010000
END:STANDARD
END:VTIMEZONE
BEGIN:VEVENT
DTSTART;TZID=Europe/Warsaw:20160408T190000
DTEND;TZID=Europe/Warsaw:20160408T230000
DTSTAMP:20260421T125854
CREATED:20160331T203628Z
LAST-MODIFIED:20160331T203628Z
UID:98755-1460142000-1460156400@deathmagnetic.pl
SUMMARY:Coria + Frontrow + Anvill
DESCRIPTION:Bitety w cenie : 15 zł przedsprzedaż / 25 zł w dniu koncertu \nKolekcjonerskie online: http://heartofrockagency.8merch.com/8_04_2016_koncert_coria_frontrow_szczecin-id8280
URL:https://deathmagnetic.pl/wydarzenie/coria-frontrow-anvill/
LOCATION:Kosmos Music Club\, al. Wyzwolenia 18\, Szczecin\,  70-532\, Polska
CATEGORIES:Koncerty,Polskie
ATTACH;FMTTYPE=image/jpeg:https://deathmagnetic.pl/wp-content/uploads/2016/03/coria.jpg
ORGANIZER;CN="Heart%20Of%20Rock%20Agency":MAILTO:office@heartofrockagency.com
GEO:53.4337619;14.5558731
X-APPLE-STRUCTURED-LOCATION;VALUE=URI;X-ADDRESS=Kosmos Music Club al. Wyzwolenia 18 Szczecin  70-532 Polska;X-APPLE-RADIUS=500;X-TITLE=al. Wyzwolenia 18:geo:14.5558731,53.4337619
END:VEVENT
END:VCALENDAR