BEGIN:VCALENDAR
VERSION:2.0
PRODID:-//Death Magnetic - ECPv5.10.1//NONSGML v1.0//EN
CALSCALE:GREGORIAN
METHOD:PUBLISH
X-WR-CALNAME:Death Magnetic
X-ORIGINAL-URL:https://deathmagnetic.pl
X-WR-CALDESC:Events for Death Magnetic
BEGIN:VTIMEZONE
TZID:Europe/Warsaw
BEGIN:DAYLIGHT
TZOFFSETFROM:+0100
TZOFFSETTO:+0200
TZNAME:CEST
DTSTART:20150329T010000
END:DAYLIGHT
BEGIN:STANDARD
TZOFFSETFROM:+0200
TZOFFSETTO:+0100
TZNAME:CET
DTSTART:20151025T010000
END:STANDARD
END:VTIMEZONE
BEGIN:VEVENT
DTSTART;TZID=Europe/Warsaw:20150506T190000
DTEND;TZID=Europe/Warsaw:20150506T230000
DTSTAMP:20260420T120500
CREATED:20150221T114038Z
LAST-MODIFIED:20150225T150949Z
UID:73492-1430938800-1430953200@deathmagnetic.pl
SUMMARY:Comeback Kid + Bane + My Iron Lung + World Eater
DESCRIPTION:Ceny biletów (przedsprzedaż / w dniu koncertu): \n64zł / 69zł \nBilety dostępne na:\nTicketpro\, Eventim\, Ebilet\, Biletomat\nBilety kolekcjonerskie w cenie 59 pln do zakupu na stronie P.W. Events. Wysyłka 7 pln. \n 
URL:https://deathmagnetic.pl/wydarzenie/comeback-kid-bane-my-iron-lung-world-eater/
LOCATION:Klub Pod Minogą\, Nowowiejskiego 8\, Poznań\, Polska
CATEGORIES:Koncerty,zagraniczne
ATTACH;FMTTYPE=image/jpeg:https://deathmagnetic.pl/wp-content/uploads/2015/02/Comeback-Kid.jpg
ORGANIZER;CN="P.W.%20Events":MAILTO:piotr@pwevents.pl
GEO:52.4093124;16.9270295
X-APPLE-STRUCTURED-LOCATION;VALUE=URI;X-ADDRESS=Klub Pod Minogą Nowowiejskiego 8 Poznań Polska;X-APPLE-RADIUS=500;X-TITLE=Nowowiejskiego 8:geo:16.9270295,52.4093124
END:VEVENT
END:VCALENDAR