BEGIN:VCALENDAR
VERSION:2.0
PRODID:-//Death Magnetic - ECPv5.10.1//NONSGML v1.0//EN
CALSCALE:GREGORIAN
METHOD:PUBLISH
X-WR-CALNAME:Death Magnetic
X-ORIGINAL-URL:https://deathmagnetic.pl
X-WR-CALDESC:Events for Death Magnetic
BEGIN:VTIMEZONE
TZID:Europe/Warsaw
BEGIN:DAYLIGHT
TZOFFSETFROM:+0100
TZOFFSETTO:+0200
TZNAME:CEST
DTSTART:20160327T010000
END:DAYLIGHT
BEGIN:STANDARD
TZOFFSETFROM:+0200
TZOFFSETTO:+0100
TZNAME:CET
DTSTART:20161030T010000
END:STANDARD
END:VTIMEZONE
BEGIN:VEVENT
DTSTART;TZID=Europe/Warsaw:20161105T190000
DTEND;TZID=Europe/Warsaw:20161105T230000
DTSTAMP:20260421T072327
CREATED:20161006T132746Z
LAST-MODIFIED:20161006T133727Z
UID:106177-1478372400-1478386800@deathmagnetic.pl
SUMMARY:Closterkeller
DESCRIPTION:Doroczna jesienna trasa koncertowa Closterkellera w tym roku obejmie 22 miasta w całej Polsce a w nich same dobre kluby – w bielskim Rudeboy’u zespół zagra 5.11.2016! \nBilety:\n 35 zł w przedsprzedaży i 40 zł w dniu koncertu \nBilety można nabyć przez stronę internetową klubu w dziale KUP BILET\, a także w stałych punktach przedsprzedaży i klubie Rudeboy. \n 
URL:https://deathmagnetic.pl/wydarzenie/closterkeller-3/
LOCATION:Rudeboy Club\, 1 maja 20\, Bielsko-Biała\, 43-300\, Polska
CATEGORIES:Koncerty,Polskie
ATTACH;FMTTYPE=image/jpeg:https://deathmagnetic.pl/wp-content/uploads/2016/10/Closterkeller.jpg
GEO:49.817453;19.0456459
X-APPLE-STRUCTURED-LOCATION;VALUE=URI;X-ADDRESS=Rudeboy Club 1 maja 20 Bielsko-Biała 43-300 Polska;X-APPLE-RADIUS=500;X-TITLE=1 maja 20:geo:19.0456459,49.817453
END:VEVENT
END:VCALENDAR