BEGIN:VCALENDAR
VERSION:2.0
PRODID:-//Death Magnetic - ECPv5.10.1//NONSGML v1.0//EN
CALSCALE:GREGORIAN
METHOD:PUBLISH
X-WR-CALNAME:Death Magnetic
X-ORIGINAL-URL:https://deathmagnetic.pl
X-WR-CALDESC:Events for Death Magnetic
BEGIN:VTIMEZONE
TZID:Europe/Warsaw
BEGIN:DAYLIGHT
TZOFFSETFROM:+0100
TZOFFSETTO:+0200
TZNAME:CEST
DTSTART:20150329T010000
END:DAYLIGHT
BEGIN:STANDARD
TZOFFSETFROM:+0200
TZOFFSETTO:+0100
TZNAME:CET
DTSTART:20151025T010000
END:STANDARD
END:VTIMEZONE
BEGIN:VEVENT
DTSTART;VALUE=DATE:20150820
DTEND;VALUE=DATE:20150824
DTSTAMP:20260419T230242
CREATED:20150422T142131Z
LAST-MODIFIED:20150527T190841Z
UID:81099-1440028800-1440374399@deathmagnetic.pl
SUMMARY:Cieszanów Rock Festiwal 2015
DESCRIPTION:Zagrają: Kreator\, Helloween\, The Animals & Friends\, Pidżama Porno\, Elektryczne Gitary\, COMA i inni. \nCeny biletów (karnet): 90zł
URL:https://deathmagnetic.pl/wydarzenie/cieszanow-rock-festiwal-2015/
LOCATION:Nienazwane Miejsce\, Cieszanów\, Polska
CATEGORIES:Festiwale,Polskie
ATTACH;FMTTYPE=image/jpeg:https://deathmagnetic.pl/wp-content/uploads/2015/04/cieszanów-rock-festiwal.jpg
END:VEVENT
END:VCALENDAR