BEGIN:VCALENDAR
VERSION:2.0
PRODID:-//Death Magnetic - ECPv5.10.1//NONSGML v1.0//EN
CALSCALE:GREGORIAN
METHOD:PUBLISH
X-WR-CALNAME:Death Magnetic
X-ORIGINAL-URL:https://deathmagnetic.pl
X-WR-CALDESC:Events for Death Magnetic
BEGIN:VTIMEZONE
TZID:Europe/Warsaw
BEGIN:DAYLIGHT
TZOFFSETFROM:+0100
TZOFFSETTO:+0200
TZNAME:CEST
DTSTART:20150329T010000
END:DAYLIGHT
BEGIN:STANDARD
TZOFFSETFROM:+0200
TZOFFSETTO:+0100
TZNAME:CET
DTSTART:20151025T010000
END:STANDARD
END:VTIMEZONE
BEGIN:VEVENT
DTSTART;TZID=Europe/Warsaw:20151029T190000
DTEND;TZID=Europe/Warsaw:20151029T230000
DTSTAMP:20260421T123827
CREATED:20150814T204404Z
LAST-MODIFIED:20150814T204404Z
UID:90286-1446145200-1446159600@deathmagnetic.pl
SUMMARY:Chemia 'Let Me' Tour
DESCRIPTION:Ceny biletów: \nPrzedsprzedaż – 30 zł z Kartą / 35 bez karty\nW dniu koncertu – 35 zł z Kartą / 40 bez karty\n \nBilety wkrótce dostępne na ekobilet.pl
URL:https://deathmagnetic.pl/wydarzenie/chemia-let-me-tour/
LOCATION:Wytwórnia\, Łąkowa 29\, Łódź
CATEGORIES:Koncerty,Polskie
ATTACH;FMTTYPE=image/jpeg:https://deathmagnetic.pl/wp-content/uploads/2015/08/Chemia.jpg
GEO:51.757883;19.443701
X-APPLE-STRUCTURED-LOCATION;VALUE=URI;X-ADDRESS=Wytwórnia Łąkowa 29 Łódź;X-APPLE-RADIUS=500;X-TITLE=Łąkowa 29:geo:19.443701,51.757883
END:VEVENT
END:VCALENDAR