BEGIN:VCALENDAR
VERSION:2.0
PRODID:-//Death Magnetic - ECPv5.10.1//NONSGML v1.0//EN
CALSCALE:GREGORIAN
METHOD:PUBLISH
X-WR-CALNAME:Death Magnetic
X-ORIGINAL-URL:https://deathmagnetic.pl
X-WR-CALDESC:Events for Death Magnetic
BEGIN:VTIMEZONE
TZID:Europe/Warsaw
BEGIN:DAYLIGHT
TZOFFSETFROM:+0100
TZOFFSETTO:+0200
TZNAME:CEST
DTSTART:20180325T010000
END:DAYLIGHT
BEGIN:STANDARD
TZOFFSETFROM:+0200
TZOFFSETTO:+0100
TZNAME:CET
DTSTART:20181028T010000
END:STANDARD
END:VTIMEZONE
BEGIN:VEVENT
DTSTART;TZID=Europe/Warsaw:20181128T190000
DTEND;TZID=Europe/Warsaw:20181128T190000
DTSTAMP:20260420T025746
CREATED:20180629T194256Z
LAST-MODIFIED:20180629T194256Z
UID:157790-1543431600-1543431600@deathmagnetic.pl
SUMMARY:Bury Tomorrow + 36 Crazyfists + Cane Hill
DESCRIPTION:
URL:https://deathmagnetic.pl/wydarzenie/bury-tomorrow-36-crazyfists-cane-hill-2/
LOCATION:Hydrozagadka\, 11 listopada 22\, Warszawa\, Polska
CATEGORIES:Koncerty,zagraniczne
ATTACH;FMTTYPE=image/png:https://deathmagnetic.pl/wp-content/uploads/2018/06/bury_tomorrow.png
ORGANIZER;CN="WiniaryBookings":MAILTO:winiarybooking@gmail.com
GEO:52.259164;21.0363389
X-APPLE-STRUCTURED-LOCATION;VALUE=URI;X-ADDRESS=Hydrozagadka 11 listopada 22 Warszawa Polska;X-APPLE-RADIUS=500;X-TITLE=11 listopada 22:geo:21.0363389,52.259164
END:VEVENT
END:VCALENDAR