BEGIN:VCALENDAR
VERSION:2.0
PRODID:-//Death Magnetic - ECPv5.10.1//NONSGML v1.0//EN
CALSCALE:GREGORIAN
METHOD:PUBLISH
X-WR-CALNAME:Death Magnetic
X-ORIGINAL-URL:https://deathmagnetic.pl
X-WR-CALDESC:Events for Death Magnetic
BEGIN:VTIMEZONE
TZID:Europe/Warsaw
BEGIN:DAYLIGHT
TZOFFSETFROM:+0100
TZOFFSETTO:+0200
TZNAME:CEST
DTSTART:20150329T010000
END:DAYLIGHT
BEGIN:STANDARD
TZOFFSETFROM:+0200
TZOFFSETTO:+0100
TZNAME:CET
DTSTART:20151025T010000
END:STANDARD
END:VTIMEZONE
BEGIN:VEVENT
DTSTART;TZID=Europe/Warsaw:20151016T200000
DTEND;TZID=Europe/Warsaw:20151016T230000
DTSTAMP:20260421T123947
CREATED:20150903T115310Z
LAST-MODIFIED:20151012T130211Z
UID:91350-1445025600-1445036400@deathmagnetic.pl
SUMMARY:Burning Down the House vol. WWA 3
DESCRIPTION:Ceny biletów:\nprzedsprzedaż – 20zł\nw dniu koncertu – 25zł
URL:https://deathmagnetic.pl/wydarzenie/burning-down-the-house-vol-wwa-3/
LOCATION:Klubokawiarnia Chmury\, 11 listopada 22\, Warszawa\, Polska
CATEGORIES:Koncerty,Polskie
ATTACH;FMTTYPE=image/jpeg:https://deathmagnetic.pl/wp-content/uploads/2015/09/Burning-Down-the-House-WWA-3.jpg
GEO:52.259164;21.0363389
X-APPLE-STRUCTURED-LOCATION;VALUE=URI;X-ADDRESS=Klubokawiarnia Chmury 11 listopada 22 Warszawa Polska;X-APPLE-RADIUS=500;X-TITLE=11 listopada 22:geo:21.0363389,52.259164
END:VEVENT
END:VCALENDAR