BEGIN:VCALENDAR
VERSION:2.0
PRODID:-//Death Magnetic - ECPv5.10.1//NONSGML v1.0//EN
CALSCALE:GREGORIAN
METHOD:PUBLISH
X-WR-CALNAME:Death Magnetic
X-ORIGINAL-URL:https://deathmagnetic.pl
X-WR-CALDESC:Events for Death Magnetic
BEGIN:VTIMEZONE
TZID:Europe/Warsaw
BEGIN:DAYLIGHT
TZOFFSETFROM:+0100
TZOFFSETTO:+0200
TZNAME:CEST
DTSTART:20170326T010000
END:DAYLIGHT
BEGIN:STANDARD
TZOFFSETFROM:+0200
TZOFFSETTO:+0100
TZNAME:CET
DTSTART:20171029T010000
END:STANDARD
END:VTIMEZONE
BEGIN:VEVENT
DTSTART;TZID=Europe/Warsaw:20170809T120000
DTEND;TZID=Europe/Warsaw:20170812T233000
DTSTAMP:20260420T213756
CREATED:20170720T183946Z
LAST-MODIFIED:20170720T184452Z
UID:148012-1502280000-1502580600@deathmagnetic.pl
SUMMARY:Brutal Assault 2017
DESCRIPTION:Zagrają: \n\n\nAEON\nAmorphis\nArchitects\nArkona\nAugust Burns Red\nAvenger\nAversions Crown\nBatushka\nBirds In Row\nBoris\nChelsea Grin \nClawfinger\nCollision\nCough\nCrowbar\nCryptopsy\nDecapitated\nDemolition Hammer\nDer Weg einer Freiheit\nDeserted Fear \nDevin Townsend Project\nDisperse\nDoomas\nDysangelium\nEinherjer\nElectric Wizard\nEluveitie\nEmperor\nExorcizphobia\nFallujah\nFirst Blood\nFleshgod Apocalypse\nFront Line Assembly\nFuria\nGadget\nGod Is An Astronaut\nGod Mother\nGorguts\nGraveworm\nGutalax\nHatebreed\nHavok\nHelheim\nHigher Power\nIgorrr\nIncantation\nInfected Rain\nInsania\nKMFDM\nMacabre\nMadball\nMadder Mortem\nMalignant Tumour\nMantar\nMaster’s Hammer\nMayhem\nMercy Ties\nMetal Church\nMiss May I\nMonolithe\nMorbid Angel\nMourning Beloveth\nNervosa\nNile\nNuclear Vomit\nOathbreaker\nOceans Ate Alaska\nOpeth\nOverkill\nPhurpa\nPossessed\nPostcards from Arkham\nPrimary Resistance\nProng\nProtector\nRevocation\nRoot\nRotten Sound\nRotting Christ\nSacred Reich\nSamael\nSheer Terror\nSikth\nSix Degrees Of Separation\nSKYWALKER\nSoen\nSuffocation\nSvart Crown\nSwallow The Sun\nSwans\nTeethgrinder\nTerror\nThe Amity Affliction \nThe Crown\nThe Dillinger Escape Plan\nThe Great Old Ones \nThe Lurking fear\nThe Number Twelve Looks Like You\nTiamat\nTrivium\nTsjuder\nUlcerate\nUltha\nVallenfyre\nVision Of Disorder\nWalls Of Jericho\nWar for War\nWhile She Sleeps\nWintersun\nWolfheart\nWolves in the Throne Room\nWrekmeister Harmonies\nZhrine
URL:https://deathmagnetic.pl/wydarzenie/brutal-assault-2017/
LOCATION:TWIERDZA JOSEFOV\, 5.kvetna\, JAROMIERZ\, Czechy
CATEGORIES:Festiwale
ATTACH;FMTTYPE=image/jpeg:https://deathmagnetic.pl/wp-content/uploads/2017/07/A2_BA2017_EN.jpg
END:VEVENT
END:VCALENDAR