BEGIN:VCALENDAR
VERSION:2.0
PRODID:-//Death Magnetic - ECPv5.10.1//NONSGML v1.0//EN
CALSCALE:GREGORIAN
METHOD:PUBLISH
X-WR-CALNAME:Death Magnetic
X-ORIGINAL-URL:https://deathmagnetic.pl
X-WR-CALDESC:Events for Death Magnetic
BEGIN:VTIMEZONE
TZID:Europe/Warsaw
BEGIN:DAYLIGHT
TZOFFSETFROM:+0100
TZOFFSETTO:+0200
TZNAME:CEST
DTSTART:20160327T010000
END:DAYLIGHT
BEGIN:STANDARD
TZOFFSETFROM:+0200
TZOFFSETTO:+0100
TZNAME:CET
DTSTART:20161030T010000
END:STANDARD
END:VTIMEZONE
BEGIN:VEVENT
DTSTART;TZID=Europe/Warsaw:20161116T180000
DTEND;TZID=Europe/Warsaw:20161116T230000
DTSTAMP:20260420T223452
CREATED:20160323T165518Z
LAST-MODIFIED:20160323T174347Z
UID:98543-1479319200-1479337200@deathmagnetic.pl
SUMMARY:Brit Floyd
DESCRIPTION:Ceny biletów: \n– 299zł – płyta przód\n– 249zł – płyta tył\n– 159/199/229zł – trybuny \nBilety dostępne na LiveNation\, Eventim\, Viagogo.
URL:https://deathmagnetic.pl/wydarzenie/brit-floyd-3/
LOCATION:Torwar\, ul. Łazienkowska 6a\, Warszawa
CATEGORIES:Koncerty,zagraniczne
ATTACH;FMTTYPE=image/jpeg:https://deathmagnetic.pl/wp-content/uploads/2016/03/Brit-Floyd.jpg
ORGANIZER;CN="Live%20Nation":MAILTO:info@livenation.pl
GEO:52.2223535;21.0406963
X-APPLE-STRUCTURED-LOCATION;VALUE=URI;X-ADDRESS=Torwar ul. Łazienkowska 6a Warszawa;X-APPLE-RADIUS=500;X-TITLE=ul. Łazienkowska 6a:geo:21.0406963,52.2223535
END:VEVENT
END:VCALENDAR