BEGIN:VCALENDAR
VERSION:2.0
PRODID:-//Death Magnetic - ECPv5.10.1//NONSGML v1.0//EN
CALSCALE:GREGORIAN
METHOD:PUBLISH
X-WR-CALNAME:Death Magnetic
X-ORIGINAL-URL:https://deathmagnetic.pl
X-WR-CALDESC:Events for Death Magnetic
BEGIN:VTIMEZONE
TZID:Europe/Warsaw
BEGIN:DAYLIGHT
TZOFFSETFROM:+0100
TZOFFSETTO:+0200
TZNAME:CEST
DTSTART:20150329T010000
END:DAYLIGHT
BEGIN:STANDARD
TZOFFSETFROM:+0200
TZOFFSETTO:+0100
TZNAME:CET
DTSTART:20151025T010000
END:STANDARD
END:VTIMEZONE
BEGIN:VEVENT
DTSTART;TZID=Europe/Warsaw:20151203T190000
DTEND;TZID=Europe/Warsaw:20151203T230000
DTSTAMP:20260420T223454
CREATED:20151012T130805Z
LAST-MODIFIED:20151012T130805Z
UID:93146-1449169200-1449183600@deathmagnetic.pl
SUMMARY:Bokka
DESCRIPTION:Ceny biletów:\nprzedsprzedaż:\n30 zł – ulgowe\, 35 zł – normalne\nw dniu koncertu:\n35 zł – ulgowe\, 40 zł – normalne \nBilety dostępne w Klubie Wytwórnia oraz na ekobilet.pl.
URL:https://deathmagnetic.pl/wydarzenie/bokka-2/
LOCATION:Wytwórnia\, Łąkowa 29\, Łódź
CATEGORIES:Koncerty,Polskie
ATTACH;FMTTYPE=image/jpeg:https://deathmagnetic.pl/wp-content/uploads/2015/10/Bokka.jpg
GEO:51.757883;19.443701
X-APPLE-STRUCTURED-LOCATION;VALUE=URI;X-ADDRESS=Wytwórnia Łąkowa 29 Łódź;X-APPLE-RADIUS=500;X-TITLE=Łąkowa 29:geo:19.443701,51.757883
END:VEVENT
END:VCALENDAR