BEGIN:VCALENDAR
VERSION:2.0
PRODID:-//Death Magnetic - ECPv5.10.1//NONSGML v1.0//EN
CALSCALE:GREGORIAN
METHOD:PUBLISH
X-WR-CALNAME:Death Magnetic
X-ORIGINAL-URL:https://deathmagnetic.pl
X-WR-CALDESC:Events for Death Magnetic
BEGIN:VTIMEZONE
TZID:Europe/Warsaw
BEGIN:DAYLIGHT
TZOFFSETFROM:+0100
TZOFFSETTO:+0200
TZNAME:CEST
DTSTART:20150329T010000
END:DAYLIGHT
BEGIN:STANDARD
TZOFFSETFROM:+0200
TZOFFSETTO:+0100
TZNAME:CET
DTSTART:20151025T010000
END:STANDARD
END:VTIMEZONE
BEGIN:VEVENT
DTSTART;TZID=Europe/Warsaw:20150325T180000
DTEND;TZID=Europe/Warsaw:20150325T230000
DTSTAMP:20260421T121549
CREATED:20150223T202400Z
LAST-MODIFIED:20150225T140651Z
UID:73914-1427306400-1427324400@deathmagnetic.pl
SUMMARY:Black Veil Brides + Fearless Vampire Killers
DESCRIPTION:Ceny biletów (przedsprzedaż / w dniu koncertu): \n105zł / 120zł \nBilety dostępne na:\nTicketpro\, Eventim\, Ebilet\, Biletomat\, stronach Go Ahead i Progresji oraz w sklepach sieci Empik\, Media Markt i Saturn\, a także w Progresja Cafe codziennie od 12:00 do 23:00 (Fort Wola 22). \nOtwarcie bram: 18:00\nStart: 19:00 \n 
URL:https://deathmagnetic.pl/wydarzenie/black-veil-brides-fearless-vampire-killers/
LOCATION:Progresja\, Fort Wola 22\, Warszawa\, Polska
CATEGORIES:Koncerty,zagraniczne
ATTACH;FMTTYPE=image/jpeg:https://deathmagnetic.pl/wp-content/uploads/2015/02/Black-Veil-Brides.jpg
ORGANIZER;CN="Go%20Ahead":MAILTO:agencja@go-ahead.pl
GEO:52.224827;20.9287
X-APPLE-STRUCTURED-LOCATION;VALUE=URI;X-ADDRESS=Progresja Fort Wola 22 Warszawa Polska;X-APPLE-RADIUS=500;X-TITLE=Fort Wola 22:geo:20.9287,52.224827
END:VEVENT
END:VCALENDAR