BEGIN:VCALENDAR
VERSION:2.0
PRODID:-//Death Magnetic - ECPv5.10.1//NONSGML v1.0//EN
CALSCALE:GREGORIAN
METHOD:PUBLISH
X-WR-CALNAME:Death Magnetic
X-ORIGINAL-URL:https://deathmagnetic.pl
X-WR-CALDESC:Events for Death Magnetic
BEGIN:VTIMEZONE
TZID:Europe/Warsaw
BEGIN:DAYLIGHT
TZOFFSETFROM:+0100
TZOFFSETTO:+0200
TZNAME:CEST
DTSTART:20170326T010000
END:DAYLIGHT
BEGIN:STANDARD
TZOFFSETFROM:+0200
TZOFFSETTO:+0100
TZNAME:CET
DTSTART:20171029T010000
END:STANDARD
END:VTIMEZONE
BEGIN:VEVENT
DTSTART;TZID=Europe/Warsaw:20170210T190000
DTEND;TZID=Europe/Warsaw:20170210T190000
DTSTAMP:20260421T121601
CREATED:20161214T111233Z
LAST-MODIFIED:20161214T112732Z
UID:109572-1486753200-1486753200@deathmagnetic.pl
SUMMARY:Black Stone Cherry + Shaman's Harvest
DESCRIPTION:Zagrają:\nBlack Stone Cherry\nShaman’s Harvest \nCeny biletów:\n90 zł – przedsprzedaż\,\n100 zł – w dniu koncertu\n\n\n\n\nOtwarcie klubu: 18.30\n\n\n\n\n\n\nStart: 19.00
URL:https://deathmagnetic.pl/wydarzenie/black-stone-cherry-shamans-harvest/
LOCATION:Klub Alibi\, Malczewskiego 29\, Radom\, mazowieckie
CATEGORIES:Koncerty,zagraniczne
ATTACH;FMTTYPE=image/jpeg:https://deathmagnetic.pl/wp-content/uploads/2016/12/black-stone-cherry.jpg
ORGANIZER;CN="KnockOut%20Productions":MAILTO:info@knockoutprod.net
GEO:51.4080553;21.1515029
X-APPLE-STRUCTURED-LOCATION;VALUE=URI;X-ADDRESS=Klub Alibi Malczewskiego 29 Radom mazowieckie;X-APPLE-RADIUS=500;X-TITLE=Malczewskiego 29:geo:21.1515029,51.4080553
END:VEVENT
END:VCALENDAR