BEGIN:VCALENDAR
VERSION:2.0
PRODID:-//Death Magnetic - ECPv5.10.1//NONSGML v1.0//EN
CALSCALE:GREGORIAN
METHOD:PUBLISH
X-WR-CALNAME:Death Magnetic
X-ORIGINAL-URL:https://deathmagnetic.pl
X-WR-CALDESC:Events for Death Magnetic
BEGIN:VTIMEZONE
TZID:Europe/Warsaw
BEGIN:DAYLIGHT
TZOFFSETFROM:+0100
TZOFFSETTO:+0200
TZNAME:CEST
DTSTART:20170326T010000
END:DAYLIGHT
BEGIN:STANDARD
TZOFFSETFROM:+0200
TZOFFSETTO:+0100
TZNAME:CET
DTSTART:20171029T010000
END:STANDARD
END:VTIMEZONE
BEGIN:VEVENT
DTSTART;TZID=Europe/Warsaw:20170928T200000
DTEND;TZID=Europe/Warsaw:20170928T230000
DTSTAMP:20260421T074800
CREATED:20170701T191749Z
LAST-MODIFIED:20170701T191759Z
UID:119855-1506628800-1506639600@deathmagnetic.pl
SUMMARY:Black Sabbath "The End of The End" - Multikino
DESCRIPTION:Bilety do nabycia na http://www.blacksabbathfilmtickets.com/
URL:https://deathmagnetic.pl/wydarzenie/black-sabbath-the-end-of-the-end-multikino/
LOCATION:Warszawa\, mazowieckie\, Polska
CATEGORIES:Koncerty,zagraniczne
ATTACH;FMTTYPE=image/jpeg:https://deathmagnetic.pl/wp-content/uploads/2017/07/Black_Sabbath_International_One_Sheet-691x1024.jpg
GEO:52.2296756;21.0122287
END:VEVENT
END:VCALENDAR