BEGIN:VCALENDAR
VERSION:2.0
PRODID:-//Death Magnetic - ECPv5.10.1//NONSGML v1.0//EN
CALSCALE:GREGORIAN
METHOD:PUBLISH
X-WR-CALNAME:Death Magnetic
X-ORIGINAL-URL:https://deathmagnetic.pl
X-WR-CALDESC:Events for Death Magnetic
BEGIN:VTIMEZONE
TZID:Europe/Warsaw
BEGIN:DAYLIGHT
TZOFFSETFROM:+0100
TZOFFSETTO:+0200
TZNAME:CEST
DTSTART:20150329T010000
END:DAYLIGHT
BEGIN:STANDARD
TZOFFSETFROM:+0200
TZOFFSETTO:+0100
TZNAME:CET
DTSTART:20151025T010000
END:STANDARD
END:VTIMEZONE
BEGIN:VEVENT
DTSTART;TZID=Europe/Warsaw:20150311T190000
DTEND;TZID=Europe/Warsaw:20150311T230000
DTSTAMP:20260421T074712
CREATED:20150223T211603Z
LAST-MODIFIED:20150224T223903Z
UID:73961-1426100400-1426114800@deathmagnetic.pl
SUMMARY:Black Label Society + Black Tusk + Crobot
DESCRIPTION:Ceny biletów (przedsprzedaż / w dniu koncertu): \n110zł / 130zł \nBilety dostępne na:\nSoundrive Tickets\, Eventim\, Ebilet i Biletomat
URL:https://deathmagnetic.pl/wydarzenie/black-label-society-black-tusk-crobot-2/
LOCATION:B90\, Doki 1\, Gdańsk\, Polska
CATEGORIES:Koncerty,zagraniczne
ATTACH;FMTTYPE=image/jpeg:https://deathmagnetic.pl/wp-content/uploads/2015/02/Black-Label-Society1.jpg
GEO:54.359932;18.6489966
X-APPLE-STRUCTURED-LOCATION;VALUE=URI;X-ADDRESS=B90 Doki 1 Gdańsk Polska;X-APPLE-RADIUS=500;X-TITLE=Doki 1:geo:18.6489966,54.359932
END:VEVENT
END:VCALENDAR