BEGIN:VCALENDAR
VERSION:2.0
PRODID:-//Death Magnetic - ECPv5.10.1//NONSGML v1.0//EN
CALSCALE:GREGORIAN
METHOD:PUBLISH
X-WR-CALNAME:Death Magnetic
X-ORIGINAL-URL:https://deathmagnetic.pl
X-WR-CALDESC:Events for Death Magnetic
BEGIN:VTIMEZONE
TZID:Europe/Warsaw
BEGIN:DAYLIGHT
TZOFFSETFROM:+0100
TZOFFSETTO:+0200
TZNAME:CEST
DTSTART:20170326T010000
END:DAYLIGHT
BEGIN:STANDARD
TZOFFSETFROM:+0200
TZOFFSETTO:+0100
TZNAME:CET
DTSTART:20171029T010000
END:STANDARD
END:VTIMEZONE
BEGIN:VEVENT
DTSTART;TZID=Europe/Warsaw:20171023T193000
DTEND;TZID=Europe/Warsaw:20171023T230000
DTSTAMP:20260421T111950
CREATED:20171023T075309Z
LAST-MODIFIED:20171023T075309Z
UID:151549-1508787000-1508799600@deathmagnetic.pl
SUMMARY:Billy the Kid + Deathtrap + Sons of Death Valley
DESCRIPTION:Data: 23 października 2017\, godz. 19:30\nMiejsce: Klub Koniec Świata – ul. Podmurna 4/6\, Toruń\nBilety: 20 PLN – w dniu koncertu na bramce. \nPatroni medialni:\nDeathMagnetic.pl\, GiG24.pl\, Kvlt\, www.antyportal.net\, Spod Kopca \nPartnerzy:\nJaPierniczę\, Karrotka
URL:https://deathmagnetic.pl/wydarzenie/billy-the-kid-deathtrap-sons-of-death-valley/
LOCATION:Koniec Świata\, Podmurna 4-6\, Toruń\, mazowieckie\, Polska
CATEGORIES:Koncerty,patronaty,zagraniczne
ATTACH;FMTTYPE=image/png:https://deathmagnetic.pl/wp-content/uploads/2017/10/plakat_toruń_btk_net.png
ORGANIZER;CN="piranha%20tourbooking":MAILTO:piranha.tourbooking@gmail.com
GEO:53.0090246;18.6095243
X-APPLE-STRUCTURED-LOCATION;VALUE=URI;X-ADDRESS=Koniec Świata Podmurna 4-6 Toruń mazowieckie Polska;X-APPLE-RADIUS=500;X-TITLE=Podmurna 4-6:geo:18.6095243,53.0090246
END:VEVENT
END:VCALENDAR