BEGIN:VCALENDAR
VERSION:2.0
PRODID:-//Death Magnetic - ECPv5.10.1//NONSGML v1.0//EN
CALSCALE:GREGORIAN
METHOD:PUBLISH
X-WR-CALNAME:Death Magnetic
X-ORIGINAL-URL:https://deathmagnetic.pl
X-WR-CALDESC:Events for Death Magnetic
BEGIN:VTIMEZONE
TZID:Europe/Warsaw
BEGIN:DAYLIGHT
TZOFFSETFROM:+0100
TZOFFSETTO:+0200
TZNAME:CEST
DTSTART:20160327T010000
END:DAYLIGHT
BEGIN:STANDARD
TZOFFSETFROM:+0200
TZOFFSETTO:+0100
TZNAME:CET
DTSTART:20161030T010000
END:STANDARD
END:VTIMEZONE
BEGIN:VEVENT
DTSTART;TZID=Europe/Warsaw:20161212T190000
DTEND;TZID=Europe/Warsaw:20161212T230000
DTSTAMP:20260421T072216
CREATED:20160611T123753Z
LAST-MODIFIED:20160611T124204Z
UID:102000-1481569200-1481583600@deathmagnetic.pl
SUMMARY:Billy Talent
DESCRIPTION:Cena biletów: 99/120 zł\nMiejsca zakupu: www.go-ahead.pl\, www.biletomat.pl\, www.eventim.pl\,www.ebilet.pl\, www.ticketpro.pl oraz sklepy sieci Empik\, Media Markt\, Saturn i Rock Long Luck
URL:https://deathmagnetic.pl/wydarzenie/billy-talent/
LOCATION:Esculap\, Przybyszewskiego 39\, Poznań\, 60-356\, Polska
CATEGORIES:Koncerty,zagraniczne
ATTACH;FMTTYPE=image/jpeg:https://deathmagnetic.pl/wp-content/uploads/2016/06/Billy-Talent.jpg
ORGANIZER;CN="Go%20Ahead":MAILTO:agencja@go-ahead.pl
GEO:52.4057549;16.8891735
X-APPLE-STRUCTURED-LOCATION;VALUE=URI;X-ADDRESS=Esculap Przybyszewskiego 39 Poznań 60-356 Polska;X-APPLE-RADIUS=500;X-TITLE=Przybyszewskiego 39:geo:16.8891735,52.4057549
END:VEVENT
END:VCALENDAR