BEGIN:VCALENDAR
VERSION:2.0
PRODID:-//Death Magnetic - ECPv5.10.1//NONSGML v1.0//EN
CALSCALE:GREGORIAN
METHOD:PUBLISH
X-WR-CALNAME:Death Magnetic
X-ORIGINAL-URL:https://deathmagnetic.pl
X-WR-CALDESC:Events for Death Magnetic
BEGIN:VTIMEZONE
TZID:Europe/Warsaw
BEGIN:DAYLIGHT
TZOFFSETFROM:+0100
TZOFFSETTO:+0200
TZNAME:CEST
DTSTART:20180325T010000
END:DAYLIGHT
BEGIN:STANDARD
TZOFFSETFROM:+0200
TZOFFSETTO:+0100
TZNAME:CET
DTSTART:20181028T010000
END:STANDARD
END:VTIMEZONE
BEGIN:VEVENT
DTSTART;TZID=Europe/Warsaw:20180721T200000
DTEND;TZID=Europe/Warsaw:20180721T233000
DTSTAMP:20260421T085742
CREATED:20171211T110816Z
LAST-MODIFIED:20171211T110816Z
UID:153609-1532203200-1532215800@deathmagnetic.pl
SUMMARY:Billy Idol
DESCRIPTION:Więcej informacji wkrótce.
URL:https://deathmagnetic.pl/wydarzenie/billy-idol/
LOCATION:Dolina Charlotty\, Strzelinko 14\, Słupsk\, Pomorskie\, 76-200\, Polska
CATEGORIES:Koncerty,zagraniczne
ATTACH;FMTTYPE=image/jpeg:https://deathmagnetic.pl/wp-content/uploads/2017/12/billyidol.jpg
GEO:54.502645;16.9521089
X-APPLE-STRUCTURED-LOCATION;VALUE=URI;X-ADDRESS=Dolina Charlotty Strzelinko 14 Słupsk Pomorskie 76-200 Polska;X-APPLE-RADIUS=500;X-TITLE=Strzelinko 14:geo:16.9521089,54.502645
END:VEVENT
END:VCALENDAR