BEGIN:VCALENDAR
VERSION:2.0
PRODID:-//Death Magnetic - ECPv5.10.1//NONSGML v1.0//EN
CALSCALE:GREGORIAN
METHOD:PUBLISH
X-WR-CALNAME:Death Magnetic
X-ORIGINAL-URL:https://deathmagnetic.pl
X-WR-CALDESC:Events for Death Magnetic
BEGIN:VTIMEZONE
TZID:Europe/Warsaw
BEGIN:DAYLIGHT
TZOFFSETFROM:+0100
TZOFFSETTO:+0200
TZNAME:CEST
DTSTART:20160327T010000
END:DAYLIGHT
BEGIN:STANDARD
TZOFFSETFROM:+0200
TZOFFSETTO:+0100
TZNAME:CET
DTSTART:20161030T010000
END:STANDARD
END:VTIMEZONE
BEGIN:VEVENT
DTSTART;TZID=Europe/Warsaw:20160317T200000
DTEND;TZID=Europe/Warsaw:20160317T230000
DTSTAMP:20260421T053308
CREATED:20160211T225159Z
LAST-MODIFIED:20160211T230253Z
UID:97366-1458244800-1458255600@deathmagnetic.pl
SUMMARY:Besides
DESCRIPTION:Bilety: \n– 20zł – przedsprzedaż\n– 25zł – w dniu koncertu
URL:https://deathmagnetic.pl/wydarzenie/besides-6/
LOCATION:Nowy Andergrant\, Kołobrzeska 32\, Olsztyn\, 10-432 \, Polska
CATEGORIES:Koncerty,patronaty,Polskie
ATTACH;FMTTYPE=image/jpeg:https://deathmagnetic.pl/wp-content/uploads/2016/02/tło_2015_3-01-01.jpg
GEO:53.779712;20.502776
X-APPLE-STRUCTURED-LOCATION;VALUE=URI;X-ADDRESS=Nowy Andergrant Kołobrzeska 32 Olsztyn 10-432  Polska;X-APPLE-RADIUS=500;X-TITLE=Kołobrzeska 32:geo:20.502776,53.779712
END:VEVENT
END:VCALENDAR