BEGIN:VCALENDAR
VERSION:2.0
PRODID:-//Death Magnetic - ECPv5.10.1//NONSGML v1.0//EN
CALSCALE:GREGORIAN
METHOD:PUBLISH
X-WR-CALNAME:Death Magnetic
X-ORIGINAL-URL:https://deathmagnetic.pl
X-WR-CALDESC:Events for Death Magnetic
BEGIN:VTIMEZONE
TZID:Europe/Warsaw
BEGIN:DAYLIGHT
TZOFFSETFROM:+0100
TZOFFSETTO:+0200
TZNAME:CEST
DTSTART:20180325T010000
END:DAYLIGHT
BEGIN:STANDARD
TZOFFSETFROM:+0200
TZOFFSETTO:+0100
TZNAME:CET
DTSTART:20181028T010000
END:STANDARD
END:VTIMEZONE
BEGIN:VEVENT
DTSTART;TZID=Europe/Warsaw:20180630T193000
DTEND;TZID=Europe/Warsaw:20180630T233000
DTSTAMP:20260421T092045
CREATED:20180530T144530Z
LAST-MODIFIED:20180530T144530Z
UID:157222-1530387000-1530401400@deathmagnetic.pl
SUMMARY:Belphegor + Melechesh + De Profundis
DESCRIPTION:Summer Totenritual Crusade 2018 Belphegor przyjedzie do Polski na 2 koncerty. Austriacy promują swój ostatni album pt. „Totenritual”. Przed nimi wystąpi orientalny Melechesh oraz goście. Koncerty w Polsce będą kończyły letnią trasę tych zespołów. \nCena biletu:\n66 zł – przedsprzedaż w systemie Eventim \n80 zł – w dniu koncertu
URL:https://deathmagnetic.pl/wydarzenie/belphegor-melechesh-de-profundis-2/
LOCATION:Klub u Bazyla\, ul. Norwida 18A\, Poznań\, wielkopolskie\, 60-867\, Polska
CATEGORIES:Koncerty,zagraniczne
ATTACH;FMTTYPE=image/jpeg:https://deathmagnetic.pl/wp-content/uploads/2018/05/Belphegor-Melechesh.jpg
GEO:52.41666;16.9111489
X-APPLE-STRUCTURED-LOCATION;VALUE=URI;X-ADDRESS=Klub u Bazyla ul. Norwida 18A Poznań wielkopolskie 60-867 Polska;X-APPLE-RADIUS=500;X-TITLE=ul. Norwida 18A:geo:16.9111489,52.41666
END:VEVENT
END:VCALENDAR