BEGIN:VCALENDAR
VERSION:2.0
PRODID:-//Death Magnetic - ECPv5.10.1//NONSGML v1.0//EN
CALSCALE:GREGORIAN
METHOD:PUBLISH
X-WR-CALNAME:Death Magnetic
X-ORIGINAL-URL:https://deathmagnetic.pl
X-WR-CALDESC:Events for Death Magnetic
BEGIN:VTIMEZONE
TZID:Europe/Warsaw
BEGIN:DAYLIGHT
TZOFFSETFROM:+0100
TZOFFSETTO:+0200
TZNAME:CEST
DTSTART:20150329T010000
END:DAYLIGHT
BEGIN:STANDARD
TZOFFSETFROM:+0200
TZOFFSETTO:+0100
TZNAME:CET
DTSTART:20151025T010000
END:STANDARD
END:VTIMEZONE
BEGIN:VEVENT
DTSTART;TZID=Europe/Warsaw:20150530T190000
DTEND;TZID=Europe/Warsaw:20150530T230000
DTSTAMP:20260420T133327
CREATED:20150324T201339Z
LAST-MODIFIED:20150324T202819Z
UID:77544-1433012400-1433026800@deathmagnetic.pl
SUMMARY:Beatsteaks + The Lunatics
DESCRIPTION:Ceny biletów (przedsprzedaż / w dniu koncertu): \n55 zł / 65 zł \nBilety dostępne na:\nTicketpro\, Eventim\, Ebilet\, Biletomat.pl stronie GoAhead oraz w sklepach sieci Empik\, Media Markt i Saturn. \nBramki: 19:00 \nStart: 20:00
URL:https://deathmagnetic.pl/wydarzenie/beatsteaks-the-lunatics/
LOCATION:Proxima\, ul. Żwirki i Wigury 99\, Warszawa\, Polska
CATEGORIES:Koncerty,zagraniczne
ATTACH;FMTTYPE=image/jpeg:https://deathmagnetic.pl/wp-content/uploads/2015/03/Beatsteaks-Warszawa-2015.jpg
ORGANIZER;CN="Go%20Ahead":MAILTO:agencja@go-ahead.pl
GEO:52.212567;20.987187
X-APPLE-STRUCTURED-LOCATION;VALUE=URI;X-ADDRESS=Proxima ul. Żwirki i Wigury 99 Warszawa Polska;X-APPLE-RADIUS=500;X-TITLE=ul. Żwirki i Wigury 99:geo:20.987187,52.212567
END:VEVENT
END:VCALENDAR