BEGIN:VCALENDAR
VERSION:2.0
PRODID:-//Death Magnetic - ECPv5.10.1//NONSGML v1.0//EN
CALSCALE:GREGORIAN
METHOD:PUBLISH
X-WR-CALNAME:Death Magnetic
X-ORIGINAL-URL:https://deathmagnetic.pl
X-WR-CALDESC:Events for Death Magnetic
BEGIN:VTIMEZONE
TZID:Europe/Warsaw
BEGIN:DAYLIGHT
TZOFFSETFROM:+0100
TZOFFSETTO:+0200
TZNAME:CEST
DTSTART:20180325T010000
END:DAYLIGHT
BEGIN:STANDARD
TZOFFSETFROM:+0200
TZOFFSETTO:+0100
TZNAME:CET
DTSTART:20181028T010000
END:STANDARD
END:VTIMEZONE
BEGIN:VEVENT
DTSTART;TZID=Europe/Warsaw:20180825T080000
DTEND;TZID=Europe/Warsaw:20180825T120000
DTSTAMP:20260421T074330
CREATED:20180804T200204Z
LAST-MODIFIED:20180804T200204Z
UID:158234-1535184000-1535198400@deathmagnetic.pl
SUMMARY:Bałtów Open Air 2018: Tides From Nebula + Sunnata + Blaze of Perdition
DESCRIPTION:Bilety: \n\n50 zł – limitowana pula dostępna do końca lipca\n60 zł – przedsprzedaż / w dniu koncertu\n\nPełny skład wydarzenia: \n\nTides From Nebula – post-rock\nCorruption – stoner / metal\nSunnata – doom / sludge / metal\nBlaze of Perdition – black / metal\nIn Twilight’s Embrace – death / black / metal\nMinetaur – southern / death / metal\nDom Zły – post / sludge / hardcore\nVarmia – pagan / black / metal\nCF98 – melodic / skate punk\nMoron – hardcore / post-hardcore\nThe Black Hearts – hardcore / rock’n’roll / metal\nBlack Tundra – doom / sludge / metal\nOnly Sons – hard rock / rock’n’roll\n\nDodatkowo oprócz muzyki: \n\nDarmowe pole namiotowe na terenie festiwalu\nKąpielisko „Kamienne Oko”\nPełna baza gastronomiczna\nMożliwość skorzystania z tego\, co oferuje Bałtowski Kompleks Turystyczny\, czyli JuraPark\, Oceanarium\, Zwierzyniec itp. (pełny wykaz atrakcji oraz cennik dostępne są na
URL:https://deathmagnetic.pl/wydarzenie/baltow-open-air-2018-tides-from-nebula-sunnata-blaze-of-perdition/
LOCATION:JuraPark\, Bałtów 8a\, Bałtów\, Polska
CATEGORIES:Festiwale,Koncerty,Polskie
ATTACH;FMTTYPE=image/jpeg:https://deathmagnetic.pl/wp-content/uploads/2018/08/baltow_open_air.jpg
GEO:51.017453;21.547794
X-APPLE-STRUCTURED-LOCATION;VALUE=URI;X-ADDRESS=JuraPark Bałtów 8a Bałtów Polska;X-APPLE-RADIUS=500;X-TITLE=Bałtów 8a:geo:21.547794,51.017453
END:VEVENT
END:VCALENDAR