BEGIN:VCALENDAR
VERSION:2.0
PRODID:-//Death Magnetic - ECPv5.10.1//NONSGML v1.0//EN
CALSCALE:GREGORIAN
METHOD:PUBLISH
X-WR-CALNAME:Death Magnetic
X-ORIGINAL-URL:https://deathmagnetic.pl
X-WR-CALDESC:Events for Death Magnetic
BEGIN:VTIMEZONE
TZID:Europe/Warsaw
BEGIN:DAYLIGHT
TZOFFSETFROM:+0100
TZOFFSETTO:+0200
TZNAME:CEST
DTSTART:20150329T010000
END:DAYLIGHT
BEGIN:STANDARD
TZOFFSETFROM:+0200
TZOFFSETTO:+0100
TZNAME:CET
DTSTART:20151025T010000
END:STANDARD
END:VTIMEZONE
BEGIN:VEVENT
DTSTART;TZID=Europe/Warsaw:20150313T180000
DTEND;TZID=Europe/Warsaw:20150313T230000
DTSTAMP:20260421T125844
CREATED:20150223T203148Z
LAST-MODIFIED:20150313T164349Z
UID:73922-1426269600-1426287600@deathmagnetic.pl
SUMMARY:Axxis + Tri State Corner + Access Denied [ODWOŁANY]
DESCRIPTION:Ceny biletów (przedsprzedaż / w dniu koncertu): \n60zł / 70zł \nBilety dostępne m.in. na stronie Progresji. \nKoncert Axxis został odwołany \nOficjalny komunikat zespołu: \nZespół Axxis ze względu na wydarzenia\, których niestety wcześniej nie można było przewidzieć\, musi odwołać zaplanowane koncerty w Polsce\, które miały odbyć się 12.03. w Gdyni\, 13.03. w Warszawie i 14.03. we Wrocławiu.
URL:https://deathmagnetic.pl/wydarzenie/axxis-tri-state-corner-access-denied/
LOCATION:Progresja\, Fort Wola 22\, Warszawa\, Polska
CATEGORIES:Koncerty,zagraniczne
ATTACH;FMTTYPE=image/jpeg:https://deathmagnetic.pl/wp-content/uploads/2015/02/Axxis.jpg
GEO:52.224827;20.9287
X-APPLE-STRUCTURED-LOCATION;VALUE=URI;X-ADDRESS=Progresja Fort Wola 22 Warszawa Polska;X-APPLE-RADIUS=500;X-TITLE=Fort Wola 22:geo:20.9287,52.224827
END:VEVENT
END:VCALENDAR