BEGIN:VCALENDAR
VERSION:2.0
PRODID:-//Death Magnetic - ECPv5.10.1//NONSGML v1.0//EN
CALSCALE:GREGORIAN
METHOD:PUBLISH
X-WR-CALNAME:Death Magnetic
X-ORIGINAL-URL:https://deathmagnetic.pl
X-WR-CALDESC:Events for Death Magnetic
BEGIN:VTIMEZONE
TZID:Europe/Warsaw
BEGIN:DAYLIGHT
TZOFFSETFROM:+0100
TZOFFSETTO:+0200
TZNAME:CEST
DTSTART:20160327T010000
END:DAYLIGHT
BEGIN:STANDARD
TZOFFSETFROM:+0200
TZOFFSETTO:+0100
TZNAME:CET
DTSTART:20161030T010000
END:STANDARD
END:VTIMEZONE
BEGIN:VEVENT
DTSTART;TZID=Europe/Warsaw:20160925T190000
DTEND;TZID=Europe/Warsaw:20160925T233000
DTSTAMP:20260421T054735
CREATED:20160810T225849Z
LAST-MODIFIED:20160810T225849Z
UID:104364-1474830000-1474846200@deathmagnetic.pl
SUMMARY:Autumn Delusions Tour 2016
DESCRIPTION:Bilety:\n15 zł – przedsprzedaż\n20 zł – w dniu koncertu\nPrzedsprzedaż biletów na stronie www.sonicmadness.8merch.com (do odebrania w dniu koncertu na bramce).
URL:https://deathmagnetic.pl/wydarzenie/autumn-delusions-tour-2016/
LOCATION:Voodoo Club\, ul. Bema 65\, Warszawa\, 01-244\, Polska
CATEGORIES:Koncerty,patronaty,Polskie
ATTACH;FMTTYPE=image/jpeg:https://deathmagnetic.pl/wp-content/uploads/2016/08/autumn-delusions-tour.jpg
END:VEVENT
END:VCALENDAR