BEGIN:VCALENDAR
VERSION:2.0
PRODID:-//Death Magnetic - ECPv5.10.1//NONSGML v1.0//EN
CALSCALE:GREGORIAN
METHOD:PUBLISH
X-WR-CALNAME:Death Magnetic
X-ORIGINAL-URL:https://deathmagnetic.pl
X-WR-CALDESC:Events for Death Magnetic
BEGIN:VTIMEZONE
TZID:Europe/Warsaw
BEGIN:DAYLIGHT
TZOFFSETFROM:+0100
TZOFFSETTO:+0200
TZNAME:CEST
DTSTART:20150329T010000
END:DAYLIGHT
BEGIN:STANDARD
TZOFFSETFROM:+0200
TZOFFSETTO:+0100
TZNAME:CET
DTSTART:20151025T010000
END:STANDARD
END:VTIMEZONE
BEGIN:VEVENT
DTSTART;TZID=Europe/Warsaw:20150228T190000
DTEND;TZID=Europe/Warsaw:20150228T230000
DTSTAMP:20260421T130348
CREATED:20150219T203703Z
LAST-MODIFIED:20150224T184641Z
UID:73328-1425150000-1425164400@deathmagnetic.pl
SUMMARY:Asphyx + Oral Fistfuck + Thunderwar + Hybris
DESCRIPTION:Ceny biletów (przedsprzedaż / w dniu koncertu): \n65 zł / 75 zł  \nBilety dostępne na: \nTicketpro. \nOtwarcie bram: 18:15\nHybris: 19:00\nOral Fistfuck: 20:00\nThunderwar: 21:00\nAsphyx: 22:00\nPrzewidywany czas zakończenia koncertu : 23:30
URL:https://deathmagnetic.pl/wydarzenie/asphyx-oral-fistfuck-thunderwar-hybris/
LOCATION:Dom Kultury Słowianin\, ul. Korzeniowskiego 2\, Szczecin\, Polska
CATEGORIES:Koncerty,zagraniczne
ATTACH;FMTTYPE=image/jpeg:https://deathmagnetic.pl/wp-content/uploads/2015/02/Asphyx.jpg
ORGANIZER;CN="Heart%20Of%20Rock%20Agency":MAILTO:office@heartofrockagency.com
GEO:53.4203514;14.5512092
X-APPLE-STRUCTURED-LOCATION;VALUE=URI;X-ADDRESS=Dom Kultury Słowianin ul. Korzeniowskiego 2 Szczecin Polska;X-APPLE-RADIUS=500;X-TITLE=ul. Korzeniowskiego 2:geo:14.5512092,53.4203514
END:VEVENT
END:VCALENDAR