BEGIN:VCALENDAR
VERSION:2.0
PRODID:-//Death Magnetic - ECPv5.10.1//NONSGML v1.0//EN
CALSCALE:GREGORIAN
METHOD:PUBLISH
X-WR-CALNAME:Death Magnetic
X-ORIGINAL-URL:https://deathmagnetic.pl
X-WR-CALDESC:Events for Death Magnetic
BEGIN:VTIMEZONE
TZID:Europe/Warsaw
BEGIN:DAYLIGHT
TZOFFSETFROM:+0100
TZOFFSETTO:+0200
TZNAME:CEST
DTSTART:20160327T010000
END:DAYLIGHT
BEGIN:STANDARD
TZOFFSETFROM:+0200
TZOFFSETTO:+0100
TZNAME:CET
DTSTART:20161030T010000
END:STANDARD
END:VTIMEZONE
BEGIN:VEVENT
DTSTART;TZID=Europe/Warsaw:20161202T190000
DTEND;TZID=Europe/Warsaw:20161202T230000
DTSTAMP:20260421T125855
CREATED:20161103T193101Z
LAST-MODIFIED:20161108T163112Z
UID:107345-1480705200-1480719600@deathmagnetic.pl
SUMMARY:Artillery + Driller + Tersha
DESCRIPTION:Bilety:\n40 zł (przedsprzedaż) / 55 zł (dzień koncertu) \nBilety w przedsprzedaży dostępnie tutaj.
URL:https://deathmagnetic.pl/wydarzenie/artillery-driller-tersha/
LOCATION:Klub Protokultura\, Niterów 29B\, Gdańsk\, 80-864 \, Polska
CATEGORIES:Koncerty,zagraniczne
ATTACH;FMTTYPE=image/jpeg:https://deathmagnetic.pl/wp-content/uploads/2016/11/Artillery.jpg
GEO:54.3650673;18.6444974
X-APPLE-STRUCTURED-LOCATION;VALUE=URI;X-ADDRESS=Klub Protokultura Niterów 29B Gdańsk 80-864  Polska;X-APPLE-RADIUS=500;X-TITLE=Niterów 29B:geo:18.6444974,54.3650673
END:VEVENT
END:VCALENDAR