BEGIN:VCALENDAR
VERSION:2.0
PRODID:-//Death Magnetic - ECPv5.10.1//NONSGML v1.0//EN
CALSCALE:GREGORIAN
METHOD:PUBLISH
X-WR-CALNAME:Death Magnetic
X-ORIGINAL-URL:https://deathmagnetic.pl
X-WR-CALDESC:Events for Death Magnetic
BEGIN:VTIMEZONE
TZID:Europe/Warsaw
BEGIN:DAYLIGHT
TZOFFSETFROM:+0100
TZOFFSETTO:+0200
TZNAME:CEST
DTSTART:20150329T010000
END:DAYLIGHT
BEGIN:STANDARD
TZOFFSETFROM:+0200
TZOFFSETTO:+0100
TZNAME:CET
DTSTART:20151025T010000
END:STANDARD
END:VTIMEZONE
BEGIN:VEVENT
DTSTART;TZID=Europe/Warsaw:20151217T183000
DTEND;TZID=Europe/Warsaw:20151217T230000
DTSTAMP:20260421T102158
CREATED:20150921T181056Z
LAST-MODIFIED:20150921T181056Z
UID:92207-1450377000-1450393200@deathmagnetic.pl
SUMMARY:Arkona + Heidevolk + Metsatoll + Dalriada
DESCRIPTION:Ceny biletów: \n70 zł – przedsprzedaż\n80 zł – w dniu koncertu \nBilety kolekcjonerskie dostępne na stronie Knock Out Production\,\nBilety systemowe na TicketPro\, E-Bilet\, Eventim i Biletomat \noraz \nw Sklepie Maksel\, ul. Rynek 31/32 (Dom Handlowy Feniks\, 5 pietro)\ni Klubie Alibi\, ul. Grunwaldzka 67
URL:https://deathmagnetic.pl/wydarzenie/arkona-heidevolk-metsatoll-dalriada-2/
LOCATION:Alibi Club\, ul. Grunwaldzka 67\, Wrocław\, Polska
CATEGORIES:Koncerty,zagraniczne
ATTACH;FMTTYPE=image/jpeg:https://deathmagnetic.pl/wp-content/uploads/2015/09/Arkona-Heidevolk-Metsatoll-Dalriada.jpg
ORGANIZER;CN="KnockOut%20Productions":MAILTO:info@knockoutprod.net
GEO:51.1145141;17.0665483
X-APPLE-STRUCTURED-LOCATION;VALUE=URI;X-ADDRESS=Alibi Club ul. Grunwaldzka 67 Wrocław Polska;X-APPLE-RADIUS=500;X-TITLE=ul. Grunwaldzka 67:geo:17.0665483,51.1145141
END:VEVENT
END:VCALENDAR