BEGIN:VCALENDAR
VERSION:2.0
PRODID:-//Death Magnetic - ECPv5.10.1//NONSGML v1.0//EN
CALSCALE:GREGORIAN
METHOD:PUBLISH
X-WR-CALNAME:Death Magnetic
X-ORIGINAL-URL:https://deathmagnetic.pl
X-WR-CALDESC:Events for Death Magnetic
BEGIN:VTIMEZONE
TZID:Europe/Warsaw
BEGIN:DAYLIGHT
TZOFFSETFROM:+0100
TZOFFSETTO:+0200
TZNAME:CEST
DTSTART:20160327T010000
END:DAYLIGHT
BEGIN:STANDARD
TZOFFSETFROM:+0200
TZOFFSETTO:+0100
TZNAME:CET
DTSTART:20161030T010000
END:STANDARD
END:VTIMEZONE
BEGIN:VEVENT
DTSTART;TZID=Europe/Warsaw:20161120T200000
DTEND;TZID=Europe/Warsaw:20161120T230000
DTSTAMP:20260421T085745
CREATED:20160613T114555Z
LAST-MODIFIED:20160613T114555Z
UID:102021-1479672000-1479682800@deathmagnetic.pl
SUMMARY:Archive
DESCRIPTION:Bilety: 125 zł (przedsprzedaż) / 140 zł (w dniu koncertu) \nDostępne: TUTAJ
URL:https://deathmagnetic.pl/wydarzenie/archive-4/
LOCATION:Międzynarodowe Targi Poznańskie\, Głogowska 14\, Poznań\, 60-734\, Polska
CATEGORIES:Koncerty,zagraniczne
ATTACH;FMTTYPE=image/jpeg:https://deathmagnetic.pl/wp-content/uploads/2016/06/archive.jpg
ORGANIZER;CN="Go%20Ahead":MAILTO:agencja@go-ahead.pl
GEO:52.4024689;16.9095209
X-APPLE-STRUCTURED-LOCATION;VALUE=URI;X-ADDRESS=Międzynarodowe Targi Poznańskie Głogowska 14 Poznań 60-734 Polska;X-APPLE-RADIUS=500;X-TITLE=Głogowska 14:geo:16.9095209,52.4024689
END:VEVENT
END:VCALENDAR