BEGIN:VCALENDAR
VERSION:2.0
PRODID:-//Death Magnetic - ECPv5.10.1//NONSGML v1.0//EN
CALSCALE:GREGORIAN
METHOD:PUBLISH
X-WR-CALNAME:Death Magnetic
X-ORIGINAL-URL:https://deathmagnetic.pl
X-WR-CALDESC:Events for Death Magnetic
BEGIN:VTIMEZONE
TZID:Europe/Warsaw
BEGIN:DAYLIGHT
TZOFFSETFROM:+0100
TZOFFSETTO:+0200
TZNAME:CEST
DTSTART:20150329T010000
END:DAYLIGHT
BEGIN:STANDARD
TZOFFSETFROM:+0200
TZOFFSETTO:+0100
TZNAME:CET
DTSTART:20151025T010000
END:STANDARD
END:VTIMEZONE
BEGIN:VEVENT
DTSTART;TZID=Europe/Warsaw:20150329T180000
DTEND;TZID=Europe/Warsaw:20150329T230000
DTSTAMP:20260421T085746
CREATED:20150324T191924Z
LAST-MODIFIED:20150324T191924Z
UID:77474-1427652000-1427670000@deathmagnetic.pl
SUMMARY:Archive
DESCRIPTION:Ceny biletów (przedsprzedaż / w dniu koncertu): \n119zł / 130zł \nbilety wyprzedane \nBramki: 18:00 \nPokaz filmu „Axiom”: 20:00 \nStart: 21:00
URL:https://deathmagnetic.pl/wydarzenie/archive-3/
LOCATION:Międzynarodowe Targi Poznańskie\, Głogowska 14\, Poznań\, 60-734\, Polska
CATEGORIES:Koncerty,zagraniczne
ATTACH;FMTTYPE=image/jpeg:https://deathmagnetic.pl/wp-content/uploads/2015/03/Archive-Poznań-2015.jpg
ORGANIZER;CN="Go%20Ahead":MAILTO:agencja@go-ahead.pl
GEO:52.4024689;16.9095209
X-APPLE-STRUCTURED-LOCATION;VALUE=URI;X-ADDRESS=Międzynarodowe Targi Poznańskie Głogowska 14 Poznań 60-734 Polska;X-APPLE-RADIUS=500;X-TITLE=Głogowska 14:geo:16.9095209,52.4024689
END:VEVENT
END:VCALENDAR