BEGIN:VCALENDAR
VERSION:2.0
PRODID:-//Death Magnetic - ECPv5.10.1//NONSGML v1.0//EN
CALSCALE:GREGORIAN
METHOD:PUBLISH
X-WR-CALNAME:Death Magnetic
X-ORIGINAL-URL:https://deathmagnetic.pl
X-WR-CALDESC:Events for Death Magnetic
BEGIN:VTIMEZONE
TZID:Europe/Warsaw
BEGIN:DAYLIGHT
TZOFFSETFROM:+0100
TZOFFSETTO:+0200
TZNAME:CEST
DTSTART:20170326T010000
END:DAYLIGHT
BEGIN:STANDARD
TZOFFSETFROM:+0200
TZOFFSETTO:+0100
TZNAME:CET
DTSTART:20171029T010000
END:STANDARD
END:VTIMEZONE
BEGIN:VEVENT
DTSTART;TZID=Europe/Warsaw:20171013T190000
DTEND;TZID=Europe/Warsaw:20171013T233000
DTSTAMP:20260420T224635
CREATED:20170815T060711Z
LAST-MODIFIED:20170815T060711Z
UID:148870-1507921200-1507937400@deathmagnetic.pl
SUMMARY:Archgoat + Bolzer + Svartidaudi + Eggs of Gomorrh
DESCRIPTION:Bilety: 70 zł (tutaj)/80 zł/90 zł (w dniu koncertu)
URL:https://deathmagnetic.pl/wydarzenie/archgoat-bolzer-svartidaudi-eggs-of-gomorrh-3/
LOCATION:Pralnia\, Krakowska 100\, Wrocław\, dolnośląskie\, 50-001\, Polska
CATEGORIES:Koncerty,zagraniczne
ATTACH;FMTTYPE=image/jpeg:https://deathmagnetic.pl/wp-content/uploads/2017/08/pos.jpg
GEO:51.0933649;17.0604727
X-APPLE-STRUCTURED-LOCATION;VALUE=URI;X-ADDRESS=Pralnia Krakowska 100 Wrocław dolnośląskie 50-001 Polska;X-APPLE-RADIUS=500;X-TITLE=Krakowska 100:geo:17.0604727,51.0933649
END:VEVENT
END:VCALENDAR