BEGIN:VCALENDAR
VERSION:2.0
PRODID:-//Death Magnetic - ECPv5.10.1//NONSGML v1.0//EN
CALSCALE:GREGORIAN
METHOD:PUBLISH
X-WR-CALNAME:Death Magnetic
X-ORIGINAL-URL:https://deathmagnetic.pl
X-WR-CALDESC:Events for Death Magnetic
BEGIN:VTIMEZONE
TZID:Europe/Warsaw
BEGIN:DAYLIGHT
TZOFFSETFROM:+0100
TZOFFSETTO:+0200
TZNAME:CEST
DTSTART:20150329T010000
END:DAYLIGHT
BEGIN:STANDARD
TZOFFSETFROM:+0200
TZOFFSETTO:+0100
TZNAME:CET
DTSTART:20151025T010000
END:STANDARD
END:VTIMEZONE
BEGIN:VEVENT
DTSTART;TZID=Europe/Warsaw:20151008T200000
DTEND;TZID=Europe/Warsaw:20151008T235500
DTSTAMP:20260421T085909
CREATED:20150929T213222Z
LAST-MODIFIED:20150929T213222Z
UID:92495-1444334400-1444348500@deathmagnetic.pl
SUMMARY:Apocalyptica + Tracer
DESCRIPTION:Ceny biletów:\n125/140 zł \nMiejsca zakupu:\nwww.go-ahead.pl\, www.eventim.pl\, www.ebilet.pl\,www.ticketpro.pl\, www.biletomat.pl oraz sklepy sieci Empik\, Media Markt i Saturn.
URL:https://deathmagnetic.pl/wydarzenie/apocalyptica-tracer-2/
LOCATION:Hala Wisły\, ul. Reymonta 22\, Kraków\, Polska
CATEGORIES:Koncerty,zagraniczne
ATTACH;FMTTYPE=image/jpeg:https://deathmagnetic.pl/wp-content/uploads/2015/09/Apocalyptica_2015.jpg
ORGANIZER;CN="Go%20Ahead":MAILTO:agencja@go-ahead.pl
GEO:50.0659233;19.91
X-APPLE-STRUCTURED-LOCATION;VALUE=URI;X-ADDRESS=Hala Wisły ul. Reymonta 22 Kraków Polska;X-APPLE-RADIUS=500;X-TITLE=ul. Reymonta 22:geo:19.91,50.0659233
END:VEVENT
END:VCALENDAR