BEGIN:VCALENDAR
VERSION:2.0
PRODID:-//Death Magnetic - ECPv5.10.1//NONSGML v1.0//EN
CALSCALE:GREGORIAN
METHOD:PUBLISH
X-WR-CALNAME:Death Magnetic
X-ORIGINAL-URL:https://deathmagnetic.pl
X-WR-CALDESC:Events for Death Magnetic
BEGIN:VTIMEZONE
TZID:Europe/Warsaw
BEGIN:DAYLIGHT
TZOFFSETFROM:+0100
TZOFFSETTO:+0200
TZNAME:CEST
DTSTART:20170326T010000
END:DAYLIGHT
BEGIN:STANDARD
TZOFFSETFROM:+0200
TZOFFSETTO:+0100
TZNAME:CET
DTSTART:20171029T010000
END:STANDARD
END:VTIMEZONE
BEGIN:VEVENT
DTSTART;TZID=Europe/Warsaw:20170218T190000
DTEND;TZID=Europe/Warsaw:20170218T235500
DTSTAMP:20260421T064247
CREATED:20160510T141000Z
LAST-MODIFIED:20160712T194331Z
UID:100532-1487444400-1487462100@deathmagnetic.pl
SUMMARY:Apocalyptica
DESCRIPTION:Więcej informacji wkrótce!
URL:https://deathmagnetic.pl/wydarzenie/apocalyptica-2/
LOCATION:Narodowe Forum Muzyki\, Plac Wolności 1\, Wrocław\, dolnośląskie\, 50-071\, Polska
CATEGORIES:Koncerty,zagraniczne
ATTACH;FMTTYPE=image/jpeg:https://deathmagnetic.pl/wp-content/uploads/2016/05/apocalyptica-polska-e1462889779481.jpg
ORGANIZER;CN="Go%20Ahead":MAILTO:agencja@go-ahead.pl
GEO:51.1067657;17.0279832
X-APPLE-STRUCTURED-LOCATION;VALUE=URI;X-ADDRESS=Narodowe Forum Muzyki Plac Wolności 1 Wrocław dolnośląskie 50-071 Polska;X-APPLE-RADIUS=500;X-TITLE=Plac Wolności 1:geo:17.0279832,51.1067657
END:VEVENT
END:VCALENDAR