BEGIN:VCALENDAR
VERSION:2.0
PRODID:-//Death Magnetic - ECPv5.10.1//NONSGML v1.0//EN
CALSCALE:GREGORIAN
METHOD:PUBLISH
X-WR-CALNAME:Death Magnetic
X-ORIGINAL-URL:https://deathmagnetic.pl
X-WR-CALDESC:Events for Death Magnetic
BEGIN:VTIMEZONE
TZID:Europe/Warsaw
BEGIN:DAYLIGHT
TZOFFSETFROM:+0100
TZOFFSETTO:+0200
TZNAME:CEST
DTSTART:20150329T010000
END:DAYLIGHT
BEGIN:STANDARD
TZOFFSETFROM:+0200
TZOFFSETTO:+0100
TZNAME:CET
DTSTART:20151025T010000
END:STANDARD
END:VTIMEZONE
BEGIN:VEVENT
DTSTART;TZID=Europe/Warsaw:20150628T200000
DTEND;TZID=Europe/Warsaw:20150628T235500
DTSTAMP:20260420T192413
CREATED:20150610T113645Z
LAST-MODIFIED:20150610T115752Z
UID:85779-1435521600-1435535700@deathmagnetic.pl
SUMMARY:Antigama + Komendarek + Rogi + X.
DESCRIPTION:The Insolent – release party \nWystąpią: Antigama\, Komendarek\, Rogi\, X. \nStart: 20:00\nWjazd: 20 zł
URL:https://deathmagnetic.pl/wydarzenie/antigama-komendarek-rogi-x/
LOCATION:DOM\, Piotrkowska 138/140\, Łódź\, 90-063\, Polska
CATEGORIES:Koncerty,Polskie
ATTACH;FMTTYPE=image/jpeg:https://deathmagnetic.pl/wp-content/uploads/2015/06/burning_down_the_house_warszawa.jpg
GEO:51.7611608;19.4594975
X-APPLE-STRUCTURED-LOCATION;VALUE=URI;X-ADDRESS=DOM Piotrkowska 138/140 Łódź 90-063 Polska;X-APPLE-RADIUS=500;X-TITLE=Piotrkowska 138/140:geo:19.4594975,51.7611608
END:VEVENT
END:VCALENDAR