BEGIN:VCALENDAR
VERSION:2.0
PRODID:-//Death Magnetic - ECPv5.10.1//NONSGML v1.0//EN
CALSCALE:GREGORIAN
METHOD:PUBLISH
X-WR-CALNAME:Death Magnetic
X-ORIGINAL-URL:https://deathmagnetic.pl
X-WR-CALDESC:Events for Death Magnetic
BEGIN:VTIMEZONE
TZID:Europe/Warsaw
BEGIN:DAYLIGHT
TZOFFSETFROM:+0100
TZOFFSETTO:+0200
TZNAME:CEST
DTSTART:20160327T010000
END:DAYLIGHT
BEGIN:STANDARD
TZOFFSETFROM:+0200
TZOFFSETTO:+0100
TZNAME:CET
DTSTART:20161030T010000
END:STANDARD
END:VTIMEZONE
BEGIN:VEVENT
DTSTART;TZID=Europe/Warsaw:20160611T173000
DTEND;TZID=Europe/Warsaw:20160611T235500
DTSTAMP:20260420T212957
CREATED:20160517T074834Z
LAST-MODIFIED:20160517T080926Z
UID:100754-1465666200-1465689300@deathmagnetic.pl
SUMMARY:Ancestor Fest 3: Radogost\, Netherfell\, Othalan\, Kryvóda\, Aether\, Livermorium
DESCRIPTION:Start: 17.30\nBilety: 20/25 zł\, do nabycia w klubie\, „Metal Shop”\, ul.Długa 17\, Kraków\, Ticketpro\, eBilet oraz kolekcjonerskie wysyłkowo HEART OF ROCK SHOP
URL:https://deathmagnetic.pl/wydarzenie/ancestor-fest-3-radogost-netherfell-othalan-kryvoda-aether-livermorium/
LOCATION:Zaścianek\, ul. Rostafińskiego 4\, Kraków\, Polska
CATEGORIES:Festiwale
ATTACH;FMTTYPE=image/jpeg:https://deathmagnetic.pl/wp-content/uploads/2016/05/Ancestor_Fest.jpg
GEO:50.0684219;19.9050327
X-APPLE-STRUCTURED-LOCATION;VALUE=URI;X-ADDRESS=Zaścianek ul. Rostafińskiego 4 Kraków Polska;X-APPLE-RADIUS=500;X-TITLE=ul. Rostafińskiego 4:geo:19.9050327,50.0684219
END:VEVENT
END:VCALENDAR