BEGIN:VCALENDAR
VERSION:2.0
PRODID:-//Death Magnetic - ECPv5.10.1//NONSGML v1.0//EN
CALSCALE:GREGORIAN
METHOD:PUBLISH
X-WR-CALNAME:Death Magnetic
X-ORIGINAL-URL:https://deathmagnetic.pl
X-WR-CALDESC:Events for Death Magnetic
BEGIN:VTIMEZONE
TZID:Europe/Warsaw
BEGIN:DAYLIGHT
TZOFFSETFROM:+0100
TZOFFSETTO:+0200
TZNAME:CEST
DTSTART:20150329T010000
END:DAYLIGHT
BEGIN:STANDARD
TZOFFSETFROM:+0200
TZOFFSETTO:+0100
TZNAME:CET
DTSTART:20151025T010000
END:STANDARD
END:VTIMEZONE
BEGIN:VEVENT
DTSTART;TZID=Europe/Warsaw:20150409T200000
DTEND;TZID=Europe/Warsaw:20150409T230000
DTSTAMP:20260421T053412
CREATED:20150301T180401Z
LAST-MODIFIED:20150318T212937Z
UID:74683-1428609600-1428620400@deathmagnetic.pl
SUMMARY:Anathema
DESCRIPTION:Ceny biletów: \n129 zł – miejsca stojące \n149 zł – balkon \nBilety dostępne na: \nTicketpro\, Biletomat\, Eventim \n  \n 
URL:https://deathmagnetic.pl/wydarzenie/anathema/
LOCATION:Wytwórnia\, Łąkowa 29\, Łódź
CATEGORIES:Koncerty,zagraniczne
ATTACH;FMTTYPE=image/jpeg:https://deathmagnetic.pl/wp-content/uploads/2015/03/Anathema.jpg
ORGANIZER;CN="Rock%20Serwis":MAILTO:bok@rockserwis.pl
GEO:51.757883;19.443701
X-APPLE-STRUCTURED-LOCATION;VALUE=URI;X-ADDRESS=Wytwórnia Łąkowa 29 Łódź;X-APPLE-RADIUS=500;X-TITLE=Łąkowa 29:geo:19.443701,51.757883
END:VEVENT
END:VCALENDAR