BEGIN:VCALENDAR
VERSION:2.0
PRODID:-//Death Magnetic - ECPv5.10.1//NONSGML v1.0//EN
CALSCALE:GREGORIAN
METHOD:PUBLISH
X-WR-CALNAME:Death Magnetic
X-ORIGINAL-URL:https://deathmagnetic.pl
X-WR-CALDESC:Events for Death Magnetic
BEGIN:VTIMEZONE
TZID:Europe/Warsaw
BEGIN:DAYLIGHT
TZOFFSETFROM:+0100
TZOFFSETTO:+0200
TZNAME:CEST
DTSTART:20170326T010000
END:DAYLIGHT
BEGIN:STANDARD
TZOFFSETFROM:+0200
TZOFFSETTO:+0100
TZNAME:CET
DTSTART:20171029T010000
END:STANDARD
END:VTIMEZONE
BEGIN:VEVENT
DTSTART;TZID=Europe/Warsaw:20170820T190000
DTEND;TZID=Europe/Warsaw:20170820T233000
DTSTAMP:20260421T073412
CREATED:20170705T181128Z
LAST-MODIFIED:20170705T181128Z
UID:120552-1503255600-1503271800@deathmagnetic.pl
SUMMARY:Amorphis + Varmia + Medebor
DESCRIPTION:20 sierpnia\ngodzina: 19:00\nKlub Muzyczny Ucho / Gdynia\nbilety:\n75 zł (http://pwevents.pl/bilety/amorphis-ucho-gdynia/491/81)\n80 zł (Biletomat\, Ebilet\, Eventim\, Ticketpro\, Klub Ucho\, Puls)\n85 zł (w dniu koncertu)
URL:https://deathmagnetic.pl/wydarzenie/amorphis-varmia-medebor/
LOCATION:Warszawa\, mazowieckie\, Polska
CATEGORIES:Koncerty,zagraniczne
ATTACH;FMTTYPE=image/jpeg:https://deathmagnetic.pl/wp-content/uploads/2017/07/amorphis_ucho.jpg
ORGANIZER;CN="P.W.%20Events":MAILTO:piotr@pwevents.pl
END:VEVENT
END:VCALENDAR