BEGIN:VCALENDAR
VERSION:2.0
PRODID:-//Death Magnetic - ECPv5.10.1//NONSGML v1.0//EN
CALSCALE:GREGORIAN
METHOD:PUBLISH
X-WR-CALNAME:Death Magnetic
X-ORIGINAL-URL:https://deathmagnetic.pl
X-WR-CALDESC:Events for Death Magnetic
BEGIN:VTIMEZONE
TZID:Europe/Warsaw
BEGIN:DAYLIGHT
TZOFFSETFROM:+0100
TZOFFSETTO:+0200
TZNAME:CEST
DTSTART:20160327T010000
END:DAYLIGHT
BEGIN:STANDARD
TZOFFSETFROM:+0200
TZOFFSETTO:+0100
TZNAME:CET
DTSTART:20161030T010000
END:STANDARD
END:VTIMEZONE
BEGIN:VEVENT
DTSTART;TZID=Europe/Warsaw:20161209T170000
DTEND;TZID=Europe/Warsaw:20161209T230000
DTSTAMP:20260421T072126
CREATED:20160516T104826Z
LAST-MODIFIED:20161112T153624Z
UID:100721-1481302800-1481324400@deathmagnetic.pl
SUMMARY:Amon Amarth + Grand Magus + Dawn Of Disease
DESCRIPTION:Bilety w cenie: 95 zł w przedsprzedaży\, 110 zł w dniu koncertu \n95 zł\, przedsprzedaż: www.knockoutprod.net/sklep (druk kolekcjonerski)
URL:https://deathmagnetic.pl/wydarzenie/amon-amarth/
LOCATION:Progresja\, Fort Wola 22\, Warszawa\, Polska
CATEGORIES:Koncerty,Polskie
ATTACH;FMTTYPE=image/jpeg:https://deathmagnetic.pl/wp-content/uploads/2016/05/zapowiedz_24.jpg
ORGANIZER;CN="KnockOut%20Productions":MAILTO:info@knockoutprod.net
GEO:52.224827;20.9287
X-APPLE-STRUCTURED-LOCATION;VALUE=URI;X-ADDRESS=Progresja Fort Wola 22 Warszawa Polska;X-APPLE-RADIUS=500;X-TITLE=Fort Wola 22:geo:20.9287,52.224827
END:VEVENT
END:VCALENDAR