BEGIN:VCALENDAR
VERSION:2.0
PRODID:-//Death Magnetic - ECPv5.10.1//NONSGML v1.0//EN
CALSCALE:GREGORIAN
METHOD:PUBLISH
X-WR-CALNAME:Death Magnetic
X-ORIGINAL-URL:https://deathmagnetic.pl
X-WR-CALDESC:Events for Death Magnetic
BEGIN:VTIMEZONE
TZID:Europe/Warsaw
BEGIN:DAYLIGHT
TZOFFSETFROM:+0100
TZOFFSETTO:+0200
TZNAME:CEST
DTSTART:20180325T010000
END:DAYLIGHT
BEGIN:STANDARD
TZOFFSETFROM:+0200
TZOFFSETTO:+0100
TZNAME:CET
DTSTART:20181028T010000
END:STANDARD
END:VTIMEZONE
BEGIN:VEVENT
DTSTART;TZID=Europe/Warsaw:20180224T183000
DTEND;TZID=Europe/Warsaw:20180224T230000
DTSTAMP:20260421T072332
CREATED:20180211T110759Z
LAST-MODIFIED:20180211T110759Z
UID:155034-1519497000-1519513200@deathmagnetic.pl
SUMMARY:Amenra + Boris
DESCRIPTION:AMENRA (Belgia) doom\, post metal\, sludge\, hard core\n+\nBoris (Japonia) doom\, psychodelia\, muzyka eksperymentalna \nKiedy: 24 lutego (sobota) 2018\nGdzie: Warszawa @ Progresja\, ul. Fort Wola 22\nBilety: 80 zł – przedsprzedaż\, 90 zł – w dniu koncertu\nOrganizator: Knock Out Productions \nBilety na koncert dostępne od piątku na:\nhttps://sklep.knockoutprod.net (druki kolekcjonerskie) 
URL:https://deathmagnetic.pl/wydarzenie/amenra-boris/
LOCATION:Progresja\, Fort Wola 22\, Warszawa\, Polska
CATEGORIES:Koncerty,zagraniczne
ATTACH;FMTTYPE=image/jpeg:https://deathmagnetic.pl/wp-content/uploads/2018/02/amenra_boris_warszawa.jpg
ORGANIZER;CN="KnockOut%20Productions":MAILTO:info@knockoutprod.net
GEO:52.224827;20.9287
X-APPLE-STRUCTURED-LOCATION;VALUE=URI;X-ADDRESS=Progresja Fort Wola 22 Warszawa Polska;X-APPLE-RADIUS=500;X-TITLE=Fort Wola 22:geo:20.9287,52.224827
END:VEVENT
END:VCALENDAR