BEGIN:VCALENDAR
VERSION:2.0
PRODID:-//Death Magnetic - ECPv5.10.1//NONSGML v1.0//EN
CALSCALE:GREGORIAN
METHOD:PUBLISH
X-WR-CALNAME:Death Magnetic
X-ORIGINAL-URL:https://deathmagnetic.pl
X-WR-CALDESC:Events for Death Magnetic
BEGIN:VTIMEZONE
TZID:Europe/Warsaw
BEGIN:DAYLIGHT
TZOFFSETFROM:+0100
TZOFFSETTO:+0200
TZNAME:CEST
DTSTART:20170326T010000
END:DAYLIGHT
BEGIN:STANDARD
TZOFFSETFROM:+0200
TZOFFSETTO:+0100
TZNAME:CET
DTSTART:20171029T010000
END:STANDARD
END:VTIMEZONE
BEGIN:VEVENT
DTSTART;TZID=Europe/Warsaw:20170219T200000
DTEND;TZID=Europe/Warsaw:20170219T200000
DTSTAMP:20260420T095126
CREATED:20160918T112133Z
LAST-MODIFIED:20170201T083035Z
UID:105683-1487534400-1487534400@deathmagnetic.pl
SUMMARY:Amenra + CHVE + Syndrome
DESCRIPTION:Bilety:\nPrzedsprzedaż – 68 PLN\nW dniu koncertu – 78 PLN \nJuż dostępne.
URL:https://deathmagnetic.pl/wydarzenie/amenra-b90/
LOCATION:B90\, Doki 1\, Gdańsk\, Polska
CATEGORIES:Koncerty,zagraniczne
ATTACH;FMTTYPE=image/jpeg:https://deathmagnetic.pl/wp-content/uploads/2016/09/amenra_gdańsk.jpg
ORGANIZER;CN="B90":MAILTO:kontakt@b90.pl
GEO:54.359932;18.6489966
X-APPLE-STRUCTURED-LOCATION;VALUE=URI;X-ADDRESS=B90 Doki 1 Gdańsk Polska;X-APPLE-RADIUS=500;X-TITLE=Doki 1:geo:18.6489966,54.359932
END:VEVENT
END:VCALENDAR