BEGIN:VCALENDAR
VERSION:2.0
PRODID:-//Death Magnetic - ECPv5.10.1//NONSGML v1.0//EN
CALSCALE:GREGORIAN
METHOD:PUBLISH
X-WR-CALNAME:Death Magnetic
X-ORIGINAL-URL:https://deathmagnetic.pl
X-WR-CALDESC:Events for Death Magnetic
BEGIN:VTIMEZONE
TZID:Europe/Warsaw
BEGIN:DAYLIGHT
TZOFFSETFROM:+0100
TZOFFSETTO:+0200
TZNAME:CEST
DTSTART:20150329T010000
END:DAYLIGHT
BEGIN:STANDARD
TZOFFSETFROM:+0200
TZOFFSETTO:+0100
TZNAME:CET
DTSTART:20151025T010000
END:STANDARD
END:VTIMEZONE
BEGIN:VEVENT
DTSTART;TZID=Europe/Warsaw:20150408T183000
DTEND;TZID=Europe/Warsaw:20150408T230000
DTSTAMP:20260421T070211
CREATED:20150219T164707Z
LAST-MODIFIED:20150225T144058Z
UID:73134-1428517800-1428534000@deathmagnetic.pl
SUMMARY:Amaranthe + supporty
DESCRIPTION:Ceny biletów (przedsprzedaż / w dniu koncertu): \n60zł / 70zł \nBilety dostępne na:\nTicketpro\, Eventim\, Ebilet\, Biletin\, stronie Knockout Production oraz w punktach: \nKraków:\nSklep Metal Shop\, Długa 17a\nStoisko firmy TAKT w GALERII KRAKOWSKIEJ\, Pawia 5\nAntycafe\, ul. Sławkowska 12- w barze klubu “Fabryka” za okazaniem biletu zakupionego w Jazz Rock Cafe/Antyradio otrzymasz piwo gratis! \nBochnia:\nKlubokawiarnia\, ul. Kazimierza Wielkiego 21/2\, (codziennie od 16:00)\nkontakt: 604-090-310\, kontakt@klubo-kawiarnia.pl \nKatowice:\nSklep Muzyczny All\, ul. Adama Mickiewicza 14 \n 
URL:https://deathmagnetic.pl/wydarzenie/amaranthe-support-2/
LOCATION:Fabryka\, ul. Zabłocie 23\, Kraków\, Polska
CATEGORIES:Koncerty,zagraniczne
ATTACH;FMTTYPE=image/jpeg:https://deathmagnetic.pl/wp-content/uploads/2015/02/Amaranthe.jpg
ORGANIZER;CN="KnockOut%20Productions":MAILTO:info@knockoutprod.net
GEO:50.0500744;19.9600714
X-APPLE-STRUCTURED-LOCATION;VALUE=URI;X-ADDRESS=Fabryka ul. Zabłocie 23 Kraków Polska;X-APPLE-RADIUS=500;X-TITLE=ul. Zabłocie 23:geo:19.9600714,50.0500744
END:VEVENT
END:VCALENDAR