BEGIN:VCALENDAR
VERSION:2.0
PRODID:-//Death Magnetic - ECPv5.10.1//NONSGML v1.0//EN
CALSCALE:GREGORIAN
METHOD:PUBLISH
X-WR-CALNAME:Death Magnetic
X-ORIGINAL-URL:https://deathmagnetic.pl
X-WR-CALDESC:Events for Death Magnetic
BEGIN:VTIMEZONE
TZID:Europe/Warsaw
BEGIN:DAYLIGHT
TZOFFSETFROM:+0100
TZOFFSETTO:+0200
TZNAME:CEST
DTSTART:20170326T010000
END:DAYLIGHT
BEGIN:STANDARD
TZOFFSETFROM:+0200
TZOFFSETTO:+0100
TZNAME:CET
DTSTART:20171029T010000
END:STANDARD
END:VTIMEZONE
BEGIN:VEVENT
DTSTART;TZID=Europe/Warsaw:20171108T190000
DTEND;TZID=Europe/Warsaw:20171108T233000
DTSTAMP:20260421T121438
CREATED:20170717T083013Z
LAST-MODIFIED:20170717T083013Z
UID:147939-1510167600-1510183800@deathmagnetic.pl
SUMMARY:Algiers
DESCRIPTION:Data: 2017-11-08 (środa)\nMiasto: Poznań\nMiejsce: Klubokawiarnia Meskalina\nAdres: Stary Rynek 6\nStart sprzedaży biletów: 14.07.2017\, godz. 10:00\nMiejsca zakupu: www.go-ahead.pl\, www.biletomat.pl\, www.ebilet.pl\,www.ticketpro.pl\, www.ticketmaster.pl oraz sklepy sieci Empik\, Media Markt i Saturn
URL:https://deathmagnetic.pl/wydarzenie/algiers/
LOCATION:Warszawa\, mazowieckie\, Polska
CATEGORIES:Koncerty,zagraniczne
ATTACH;FMTTYPE=image/jpeg:https://deathmagnetic.pl/wp-content/uploads/2017/07/algiers-poznan.jpg
ORGANIZER;CN="Go%20Ahead":MAILTO:agencja@go-ahead.pl
GEO:52.2296756;21.0122287
END:VEVENT
END:VCALENDAR