BEGIN:VCALENDAR
VERSION:2.0
PRODID:-//Death Magnetic - ECPv5.10.1//NONSGML v1.0//EN
CALSCALE:GREGORIAN
METHOD:PUBLISH
X-WR-CALNAME:Death Magnetic
X-ORIGINAL-URL:https://deathmagnetic.pl
X-WR-CALDESC:Events for Death Magnetic
BEGIN:VTIMEZONE
TZID:Europe/Warsaw
BEGIN:DAYLIGHT
TZOFFSETFROM:+0100
TZOFFSETTO:+0200
TZNAME:CEST
DTSTART:20150329T010000
END:DAYLIGHT
BEGIN:STANDARD
TZOFFSETFROM:+0200
TZOFFSETTO:+0100
TZNAME:CET
DTSTART:20151025T010000
END:STANDARD
END:VTIMEZONE
BEGIN:VEVENT
DTSTART;TZID=Europe/Warsaw:20150424T200000
DTEND;TZID=Europe/Warsaw:20150424T230000
DTSTAMP:20260421T072407
CREATED:20150421T163235Z
LAST-MODIFIED:20150421T163235Z
UID:80799-1429905600-1429916400@deathmagnetic.pl
SUMMARY:Alcoholica
DESCRIPTION:Ceny biletów (dostępne tylko w dniu koncertu): 15zł \nStart: 20:00\nKoniec: 23:00
URL:https://deathmagnetic.pl/wydarzenie/alcoholica-2/
LOCATION:Underground Pub\, pl. Korfantego 1
CATEGORIES:Koncerty,Polskie
ATTACH;FMTTYPE=image/jpeg:https://deathmagnetic.pl/wp-content/uploads/2015/04/alcoholica.jpg
GEO:50.2604013;19.0226609
X-APPLE-STRUCTURED-LOCATION;VALUE=URI;X-ADDRESS=Underground Pub pl. Korfantego 1;X-APPLE-RADIUS=500;X-TITLE=pl. Korfantego 1:geo:19.0226609,50.2604013
END:VEVENT
END:VCALENDAR