BEGIN:VCALENDAR
VERSION:2.0
PRODID:-//Death Magnetic - ECPv5.10.1//NONSGML v1.0//EN
CALSCALE:GREGORIAN
METHOD:PUBLISH
X-WR-CALNAME:Death Magnetic
X-ORIGINAL-URL:https://deathmagnetic.pl
X-WR-CALDESC:Events for Death Magnetic
BEGIN:VTIMEZONE
TZID:Europe/Warsaw
BEGIN:DAYLIGHT
TZOFFSETFROM:+0100
TZOFFSETTO:+0200
TZNAME:CEST
DTSTART:20150329T010000
END:DAYLIGHT
BEGIN:STANDARD
TZOFFSETFROM:+0200
TZOFFSETTO:+0100
TZNAME:CET
DTSTART:20151025T010000
END:STANDARD
END:VTIMEZONE
BEGIN:VEVENT
DTSTART;TZID=Europe/Warsaw:20150414T190000
DTEND;TZID=Europe/Warsaw:20150414T230000
DTSTAMP:20260421T092038
CREATED:20150324T194153Z
LAST-MODIFIED:20150324T194153Z
UID:77541-1429038000-1429052400@deathmagnetic.pl
SUMMARY:Against Me + Caves +Roger Harvey
DESCRIPTION:Ceny biletów (przedsprzedaż / w dniu koncertu): \n55 zł / 65 zł \nBilety dostępne na:\nTicketpro\, Eventim\, Ebilet\, stronie GoAhead oraz w sklepach sieci Empik\, Media Markt i Saturn. \nBramki: 19:00 \nStart: 19:45
URL:https://deathmagnetic.pl/wydarzenie/against-me-caves-roger-harvey/
LOCATION:Proxima\, ul. Żwirki i Wigury 99\, Warszawa\, Polska
CATEGORIES:Koncerty,zagraniczne
ATTACH;FMTTYPE=image/jpeg:https://deathmagnetic.pl/wp-content/uploads/2015/03/Against-Me-Proxima-2015.jpg
ORGANIZER;CN="Go%20Ahead":MAILTO:agencja@go-ahead.pl
GEO:52.212567;20.987187
X-APPLE-STRUCTURED-LOCATION;VALUE=URI;X-ADDRESS=Proxima ul. Żwirki i Wigury 99 Warszawa Polska;X-APPLE-RADIUS=500;X-TITLE=ul. Żwirki i Wigury 99:geo:20.987187,52.212567
END:VEVENT
END:VCALENDAR