BEGIN:VCALENDAR
VERSION:2.0
PRODID:-//Death Magnetic - ECPv5.10.1//NONSGML v1.0//EN
CALSCALE:GREGORIAN
METHOD:PUBLISH
X-WR-CALNAME:Death Magnetic
X-ORIGINAL-URL:https://deathmagnetic.pl
X-WR-CALDESC:Events for Death Magnetic
BEGIN:VTIMEZONE
TZID:Europe/Warsaw
BEGIN:DAYLIGHT
TZOFFSETFROM:+0100
TZOFFSETTO:+0200
TZNAME:CEST
DTSTART:20150329T010000
END:DAYLIGHT
BEGIN:STANDARD
TZOFFSETFROM:+0200
TZOFFSETTO:+0100
TZNAME:CET
DTSTART:20151025T010000
END:STANDARD
END:VTIMEZONE
BEGIN:VEVENT
DTSTART;TZID=Europe/Warsaw:20150425T180000
DTEND;TZID=Europe/Warsaw:20150425T230000
DTSTAMP:20260421T104706
CREATED:20150304T114458Z
LAST-MODIFIED:20150304T114458Z
UID:75006-1429984800-1430002800@deathmagnetic.pl
SUMMARY:Acid Drinkers + Post Profession
DESCRIPTION:Ceny biletów (przedsprzedaż / w dniu koncertu): \n39 zł / 45 zł \nBramki: 18:00 \nStart: 19:00 \n  \n25 kwietnia to nowa data przełożonego koncertu z marca! Bilety zachowują ważność.
URL:https://deathmagnetic.pl/wydarzenie/acid-drinkers-post-profession-2/
LOCATION:Semafor\, Towarowa 2\, Skarżysko Kamienna\, 26-110\, Polska
CATEGORIES:Koncerty,Polskie
ATTACH;FMTTYPE=image/jpeg:https://deathmagnetic.pl/wp-content/uploads/2015/03/Acid-Drinkers-25-Upside-Down-Tour.jpg
GEO:51.1130177;20.8787669
X-APPLE-STRUCTURED-LOCATION;VALUE=URI;X-ADDRESS=Semafor Towarowa 2 Skarżysko Kamienna 26-110 Polska;X-APPLE-RADIUS=500;X-TITLE=Towarowa 2:geo:20.8787669,51.1130177
END:VEVENT
END:VCALENDAR