BEGIN:VCALENDAR
VERSION:2.0
PRODID:-//Death Magnetic - ECPv5.10.1//NONSGML v1.0//EN
CALSCALE:GREGORIAN
METHOD:PUBLISH
X-WR-CALNAME:Death Magnetic
X-ORIGINAL-URL:https://deathmagnetic.pl
X-WR-CALDESC:Events for Death Magnetic
BEGIN:VTIMEZONE
TZID:Europe/Warsaw
BEGIN:DAYLIGHT
TZOFFSETFROM:+0100
TZOFFSETTO:+0200
TZNAME:CEST
DTSTART:20150329T010000
END:DAYLIGHT
BEGIN:STANDARD
TZOFFSETFROM:+0200
TZOFFSETTO:+0100
TZNAME:CET
DTSTART:20151025T010000
END:STANDARD
END:VTIMEZONE
BEGIN:VEVENT
DTSTART;TZID=Europe/Warsaw:20150426T180000
DTEND;TZID=Europe/Warsaw:20150426T230000
DTSTAMP:20260420T235940
CREATED:20150304T115237Z
LAST-MODIFIED:20150304T115650Z
UID:75008-1430071200-1430089200@deathmagnetic.pl
SUMMARY:Acid Drinkers + Mindfield
DESCRIPTION:Ceny biletów (przedsprzedaż / w dniu koncertu): \n39 zł / 45 zł \nBramki: 18:00 \nStart: 19:00 \n26 kwietnia to nowa data przełożonego koncertu z marca! Bilety zachowują ważność
URL:https://deathmagnetic.pl/wydarzenie/acid-drinkers-mindfield-4/
LOCATION:Studio\, Pułaskiego 2a\, Mielec\, 39-300\, Polska
CATEGORIES:Koncerty,Polskie
ATTACH;FMTTYPE=image/jpeg:https://deathmagnetic.pl/wp-content/uploads/2015/03/Acid-Drinkers-25-Upside-Down-Tour.jpg
END:VEVENT
END:VCALENDAR