BEGIN:VCALENDAR
VERSION:2.0
PRODID:-//Death Magnetic - ECPv5.10.1//NONSGML v1.0//EN
CALSCALE:GREGORIAN
METHOD:PUBLISH
X-WR-CALNAME:Death Magnetic
X-ORIGINAL-URL:https://deathmagnetic.pl
X-WR-CALDESC:Events for Death Magnetic
BEGIN:VTIMEZONE
TZID:Europe/Warsaw
BEGIN:DAYLIGHT
TZOFFSETFROM:+0100
TZOFFSETTO:+0200
TZNAME:CEST
DTSTART:20150329T010000
END:DAYLIGHT
BEGIN:STANDARD
TZOFFSETFROM:+0200
TZOFFSETTO:+0100
TZNAME:CET
DTSTART:20151025T010000
END:STANDARD
END:VTIMEZONE
BEGIN:VEVENT
DTSTART;TZID=Europe/Warsaw:20150410T190000
DTEND;TZID=Europe/Warsaw:20150410T230000
DTSTAMP:20260421T073958
CREATED:20150304T110246Z
LAST-MODIFIED:20150304T110246Z
UID:74999-1428692400-1428706800@deathmagnetic.pl
SUMMARY:Acid Drinkers + Mindfield
DESCRIPTION:Ceny biletów (przedsprzedaż / w dniu koncertu): \n39 zł / 45 zł \nBramki: 19:00 \nStart: 20:00 \n  \n10 kwietnia to nowa data przełożonego koncertu z marca! Bilety zachowują ważność.
URL:https://deathmagnetic.pl/wydarzenie/acid-drinkers-mindfield-3/
LOCATION:Klub Atmosfera\, ul. Kopernika 8\, Chełm\, 22-100 \, Polska
CATEGORIES:Koncerty,Polskie
ATTACH;FMTTYPE=image/jpeg:https://deathmagnetic.pl/wp-content/uploads/2015/03/Acid-Drinkers-25-Upside-Down-Tour.jpg
GEO:51.1333319;23.4737965
X-APPLE-STRUCTURED-LOCATION;VALUE=URI;X-ADDRESS=Klub Atmosfera ul. Kopernika 8 Chełm 22-100  Polska;X-APPLE-RADIUS=500;X-TITLE=ul. Kopernika 8:geo:23.4737965,51.1333319
END:VEVENT
END:VCALENDAR