BEGIN:VCALENDAR
VERSION:2.0
PRODID:-//Death Magnetic - ECPv5.10.1//NONSGML v1.0//EN
CALSCALE:GREGORIAN
METHOD:PUBLISH
X-WR-CALNAME:Death Magnetic
X-ORIGINAL-URL:https://deathmagnetic.pl
X-WR-CALDESC:Events for Death Magnetic
BEGIN:VTIMEZONE
TZID:Europe/Warsaw
BEGIN:DAYLIGHT
TZOFFSETFROM:+0100
TZOFFSETTO:+0200
TZNAME:CEST
DTSTART:20150329T010000
END:DAYLIGHT
BEGIN:STANDARD
TZOFFSETFROM:+0200
TZOFFSETTO:+0100
TZNAME:CET
DTSTART:20151025T010000
END:STANDARD
END:VTIMEZONE
BEGIN:VEVENT
DTSTART;TZID=Europe/Warsaw:20150329T200000
DTEND;TZID=Europe/Warsaw:20150329T230000
DTSTAMP:20260421T102026
CREATED:20150304T105726Z
LAST-MODIFIED:20150323T122828Z
UID:74996-1427659200-1427670000@deathmagnetic.pl
SUMMARY:Acid Drinkers
DESCRIPTION:Start: 20:00 \nRezerwacja biletów nie wcześniej niż tydzień przed koncertem wyłącznie po zapowiedzi prowadzącego – telefon (0-22) 333 33 33
URL:https://deathmagnetic.pl/wydarzenie/acid-drinkers-3/
LOCATION:Muzyczne Studio Trójki im. Agnieszki Osieckiej\, Myśliwiecka 3/5/7 \, Warszawa\, 01-728\, Polska
CATEGORIES:Koncerty,Polskie
ATTACH;FMTTYPE=image/jpeg:https://deathmagnetic.pl/wp-content/uploads/2015/03/acid_drinkers_muzyczne_studio_trojki.jpg
END:VEVENT
END:VCALENDAR