BEGIN:VCALENDAR
VERSION:2.0
PRODID:-//Death Magnetic - ECPv5.10.1//NONSGML v1.0//EN
CALSCALE:GREGORIAN
METHOD:PUBLISH
X-WR-CALNAME:Death Magnetic
X-ORIGINAL-URL:https://deathmagnetic.pl
X-WR-CALDESC:Events for Death Magnetic
BEGIN:VTIMEZONE
TZID:Europe/Warsaw
BEGIN:DAYLIGHT
TZOFFSETFROM:+0100
TZOFFSETTO:+0200
TZNAME:CEST
DTSTART:20180325T010000
END:DAYLIGHT
BEGIN:STANDARD
TZOFFSETFROM:+0200
TZOFFSETTO:+0100
TZNAME:CET
DTSTART:20181028T010000
END:STANDARD
END:VTIMEZONE
BEGIN:VEVENT
DTSTART;TZID=Europe/Warsaw:20180407T190000
DTEND;TZID=Europe/Warsaw:20180407T230000
DTSTAMP:20260421T135448
CREATED:20180307T174453Z
LAST-MODIFIED:20180307T174453Z
UID:155620-1523127600-1523142000@deathmagnetic.pl
SUMMARY:4 Pory Rocka
DESCRIPTION:Zagrają: Abstrakt\, Moanaa\, Octopussy\, Beyond The Event Horizon \nBilety: 35 zł\nBilety do kupienia są na stronie festiwalu: 4poryrocka.bteh.net oraz w klubie „U Bazyla”. \n  \nPoczątek wiosny w Poznaniu po raz kolejny upłynie z muzyką rockową w tle. Już 7 kwietnia odbędzie się kolejna\, 5. edycja festiwalu 4 Pory Rocka. Jest to jedno z ważniejszych wydarzeń muzycznych w stolicy Wielkopolski w kręgu sympatyków muzyki rockowej. Festiwal przyciąga słuchaczy zespołami\, które odznaczyły już swój trwały ślad na polskiej scenie muzycznej. Na dotychczasowych edycjach\, obok zespołów gospodarzy (Abstrakt oraz Beyond The Event Horizon) wystąpili m.in. Disperse\, Spoiwo\, Besides\, Votum. \n„Początkowo impreza miała charakter wieczoru koncertowego zaprzyjaźnionych\, poznańskich zespołów. Z czasem zostało to ubrane w ramy festiwalu i nabrało co raz większego rozgłosu” – wyjaśnia jeden ze współorganizatorów\, Tytus Adamczewski. \nW tym roku\, poza wspomnianymi gospodarzami – Abstrakt i Beyond The Event Horizon (ci ostatni zaprezentują materiał z nadchodzącej\, drugiej płyty)\, na 4 Porach Rocka pojawi się także Octopussy z Gdańska\, łączący brzmienia rock’n’roll\, stoner\, blues z odbijającym się echem klimatu południa Stanów Zjednoczonych. Nieco mocniejszy akcent zapewni Moanaa z Bielska Białej\, która wykonuje muzykę obracającą się w klimatach post-metal\, psychodelic\, post-rock\, sludge.
URL:https://deathmagnetic.pl/wydarzenie/4-pory-rocka/
LOCATION:Klub u Bazyla\, ul. Norwida 18A\, Poznań\, wielkopolskie\, 60-867\, Polska
CATEGORIES:Koncerty,Polskie
ATTACH;FMTTYPE=image/jpeg:https://deathmagnetic.pl/wp-content/uploads/2018/03/4-pory-rocka.jpg
GEO:52.41666;16.9111489
X-APPLE-STRUCTURED-LOCATION;VALUE=URI;X-ADDRESS=Klub u Bazyla ul. Norwida 18A Poznań wielkopolskie 60-867 Polska;X-APPLE-RADIUS=500;X-TITLE=ul. Norwida 18A:geo:16.9111489,52.41666
END:VEVENT
END:VCALENDAR