BEGIN:VCALENDAR
VERSION:2.0
PRODID:-//Death Magnetic - ECPv5.10.1//NONSGML v1.0//EN
CALSCALE:GREGORIAN
METHOD:PUBLISH
X-WR-CALNAME:Death Magnetic
X-ORIGINAL-URL:https://deathmagnetic.pl
X-WR-CALDESC:Events for Death Magnetic
BEGIN:VTIMEZONE
TZID:Europe/Warsaw
BEGIN:DAYLIGHT
TZOFFSETFROM:+0100
TZOFFSETTO:+0200
TZNAME:CEST
DTSTART:20180325T010000
END:DAYLIGHT
BEGIN:STANDARD
TZOFFSETFROM:+0200
TZOFFSETTO:+0100
TZNAME:CET
DTSTART:20181028T010000
END:STANDARD
END:VTIMEZONE
BEGIN:VEVENT
DTSTART;TZID=Europe/Warsaw:20180501T080000
DTEND;TZID=Europe/Warsaw:20180503T233000
DTSTAMP:20260420T190811
CREATED:20180124T172613Z
LAST-MODIFIED:20180124T172613Z
UID:154540-1525161600-1525390200@deathmagnetic.pl
SUMMARY:3-Majówka we Wrocławiu
DESCRIPTION:Na koncertach wystąpią: KULT\, PERFECT\, THE DUMPLINGS\, ORGANEK\, NOCNY KOCHANEK\, PIDŻAMA PORNO\, AYO\, THE DEAD DAISIES\, JELONEK\, VADER\, PERCIVAL SCHUTTENBACH „WILD HUNT LIVE”\, GRUBSON\, MIKROMUSIC\, DUBIOZA KOLEKTIV\, ME AND THAT MAN\, COMA I INNI. \nPromocyjna cena karnetów na 3 dni imprezy to zaledwie 99 zł!\nKarnety 2-dniowe kosztują 79 zł\, a bilety na jeden dzień nabędziecie za jedyne 49 zł. \nProblem prezentów na Mikołajki i po choinkę rozwiązał się sam!\nKarnet na 3-Majówkę 2018 we Wrocławiu ucieszy każdego 🙂\nKolejnych wykonawców poznamy juz wkrótce. \nPromocyjne ceny obowiązują do 20 grudnia! \nBilety dostępne w sieci salonów Empik\, Saturn i MediaMarkt w całej Polsce oraz w serwisach: www.staryklasztor.com.pl/bilety/\, www.biletin.pl\,www.ticketpro.pl\, www.biletyna.pl\, www.eventim.pl Bilety online można kupić tutaj: http://wrockfest.pl/bilety-online/
URL:https://deathmagnetic.pl/wydarzenie/3-majowka-we-wroclawiu/
CATEGORIES:Festiwale,Polskie
ATTACH;FMTTYPE=image/jpeg:https://deathmagnetic.pl/wp-content/uploads/2018/01/3majowka.jpg
END:VEVENT
END:VCALENDAR