BEGIN:VCALENDAR
VERSION:2.0
PRODID:-//Death Magnetic - ECPv5.10.1//NONSGML v1.0//EN
CALSCALE:GREGORIAN
METHOD:PUBLISH
X-WR-CALNAME:Death Magnetic
X-ORIGINAL-URL:https://deathmagnetic.pl
X-WR-CALDESC:Events for Death Magnetic
BEGIN:VTIMEZONE
TZID:Europe/Warsaw
BEGIN:DAYLIGHT
TZOFFSETFROM:+0100
TZOFFSETTO:+0200
TZNAME:CEST
DTSTART:20160327T010000
END:DAYLIGHT
BEGIN:STANDARD
TZOFFSETFROM:+0200
TZOFFSETTO:+0100
TZNAME:CET
DTSTART:20161030T010000
END:STANDARD
END:VTIMEZONE
BEGIN:VEVENT
DTSTART;TZID=Europe/Warsaw:20160401T200000
DTEND;TZID=Europe/Warsaw:20160401T230000
DTSTAMP:20260421T104854
CREATED:20160323T162316Z
LAST-MODIFIED:20160323T162316Z
UID:98527-1459540800-1459551600@deathmagnetic.pl
SUMMARY:1125 (XX-lecie) + Dintojra + Lowtide
DESCRIPTION:Bilety:\n\n– 20zł – przedsprzedaż (www.winiarybookings.8merch.com)\n– 25zł – w dniu koncertu
URL:https://deathmagnetic.pl/wydarzenie/1125-xx-lecie-dintojra-lowtide/
LOCATION:Klub Pod Minogą\, Nowowiejskiego 8\, Poznań\, Polska
CATEGORIES:Koncerty,Polskie
ATTACH;FMTTYPE=image/png:https://deathmagnetic.pl/wp-content/uploads/2016/03/1125-1.png
ORGANIZER;CN="WiniaryBookings":MAILTO:winiarybooking@gmail.com
GEO:52.4093124;16.9270295
X-APPLE-STRUCTURED-LOCATION;VALUE=URI;X-ADDRESS=Klub Pod Minogą Nowowiejskiego 8 Poznań Polska;X-APPLE-RADIUS=500;X-TITLE=Nowowiejskiego 8:geo:16.9270295,52.4093124
END:VEVENT
END:VCALENDAR